Workbook
Name Excel_BuiltIn_Print_Area_10: #REF!
Name Excel_BuiltIn_Print_Area_10: #REF!
Name Excel_BuiltIn_Print_Area_11: #REF!
Name Excel_BuiltIn_Print_Area_11: #REF!
Name Excel_BuiltIn_Print_Area_12_1: #REF!
Name Excel_BuiltIn_Print_Area_12_1: #REF!
Name Excel_BuiltIn_Print_Area_13_1: #REF!
Name Excel_BuiltIn_Print_Area_13_1: #REF!
Name Excel_BuiltIn_Print_Area_13_1_1: #REF!
Name Excel_BuiltIn_Print_Area_13_1_1: #REF!
Name Excel_BuiltIn_Print_Area_13_1_1_10: #REF!
Name Excel_BuiltIn_Print_Area_13_1_1_10: #REF!
Name Excel_BuiltIn_Print_Area_13_1_1_8: #REF!
Name Excel_BuiltIn_Print_Area_13_1_1_8: #REF!
Name Excel_BuiltIn_Print_Area_14_1: #REF!
Name Excel_BuiltIn_Print_Area_14_1: #REF!
Name Excel_BuiltIn_Print_Area_14_1_10: #REF!
Name Excel_BuiltIn_Print_Area_14_1_10: #REF!
Name Excel_BuiltIn_Print_Area_14_1_8: #REF!
Name Excel_BuiltIn_Print_Area_14_1_8: #REF!
Name Excel_BuiltIn_Print_Area_15_1: #REF!
Name Excel_BuiltIn_Print_Area_15_1: #REF!
Name Excel_BuiltIn_Print_Area_15_1_10: #REF!
Name Excel_BuiltIn_Print_Area_15_1_10: #REF!
Name Excel_BuiltIn_Print_Area_15_1_8: #REF!
Name Excel_BuiltIn_Print_Area_15_1_8: #REF!
Name Excel_BuiltIn_Print_Area_16_1: #REF!
Name Excel_BuiltIn_Print_Area_16_1: #REF!
Name Excel_BuiltIn_Print_Area_16_1_1: #REF!
Name Excel_BuiltIn_Print_Area_16_1_1: #REF!
Name Excel_BuiltIn_Print_Area_16_1_1_10: #REF!
Name Excel_BuiltIn_Print_Area_16_1_1_10: #REF!
Name Excel_BuiltIn_Print_Area_16_1_1_8: #REF!
Name Excel_BuiltIn_Print_Area_16_1_1_8: #REF!
Name Excel_BuiltIn_Print_Area_20_1: #REF!
Name Excel_BuiltIn_Print_Area_20_1: #REF!
Name Excel_BuiltIn_Print_Area_20_1_10: #REF!
Name Excel_BuiltIn_Print_Area_20_1_10: #REF!
Name Excel_BuiltIn_Print_Area_20_1_8: #REF!
Name Excel_BuiltIn_Print_Area_20_1_8: #REF!
Name Excel_BuiltIn_Print_Area_22_1: #REF!
Name Excel_BuiltIn_Print_Area_22_1: #REF!
Name Excel_BuiltIn_Print_Area_22_1_10: #REF!
Name Excel_BuiltIn_Print_Area_22_1_10: #REF!
Name Excel_BuiltIn_Print_Area_22_1_8: #REF!
Name Excel_BuiltIn_Print_Area_22_1_8: #REF!
Name Excel_BuiltIn_Print_Area_3_1: #REF!
Name Excel_BuiltIn_Print_Area_3_1: #REF!
Name Excel_BuiltIn_Print_Area_4_1: #REF!
Name Excel_BuiltIn_Print_Area_4_1: #REF!
Name Excel_BuiltIn_Print_Area_7_1: #REF!
Name Excel_BuiltIn_Print_Area_7_1: #REF!
Name Excel_BuiltIn_Print_Area_7_1_1: #REF!
Name Excel_BuiltIn_Print_Area_7_1_1: #REF!
Name Excel_BuiltIn_Print_Area_9_1: #REF!
Name Excel_BuiltIn_Print_Area_9_1: #REF!
Name GGTGTG: #REF!
Name GGTGTG: #REF!
Name HHHH: #REF!
Name HHHH: #REF!

Sheet 總表
E1: 主辦單位:
E2: 工程名稱:
E3: 工程地點:
E4: 日期:
B5: 1/2/3樓室內裝修工程總表
A6: 項次 | B6: 項目說明 | C6: 數量 | D6: 單位 | E6: 單價 | F6: 金額 | G6: 備註
A7: 壹 | B7: 直接工程費
A8: 一 | B8: 1樓室內裝修工程 | C8: 1 | D8: 式 | E8: ='1F辦公室'!G129 -> 0 | F8: =SUM(C8*E8) -> 0
F9: 小計: | G9: =SUM(F7:F9) -> 0
A10: 二 | B10: 1樓OA家具設備 | C10: 1 | D10: 式 | E10: ='1F OA'!G17 -> 0 | F10: =SUM(C10*E10) -> 0
F11: 小計: | G11: =SUM(F10:F11) -> 0
A12: 三 | B12: 2樓室內裝修工程 | C12: 1 | D12: 式 | E12: ='2F辦公室'!G126 -> 0 | F12: =SUM(C12*E12) -> 0
F13: 小計: | G13: =SUM(F12:F13) -> 0
A14: 四 | B14: 2樓OA家具設備 | C14: 1 | D14: 式 | E14: ='2F OA'!G34 -> 0 | F14: =SUM(C14*E14) -> 0
F15: 小計: | G15: =SUM(F14:F15) -> 0
A16: 五 | B16: 3樓室內裝修工程 | C16: 1 | D16: 式 | E16: ='3F辦公室 '!G121 -> 0 | F16: =SUM(C16*E16) -> 0
F17: 小計: | G17: =SUM(F16:F17) -> 0
A18: 六 | B18: 3樓OA家具設備 | C18: 1 | D18: 式 | E18: ='3F OA'!G35 -> 0 | F18: =SUM(C18*E18) -> 0
F19: 小計: | G19: =SUM(F18:F19) -> 0
A20: 七 | B20: 1/2/3樓空調工程 | C20: 1 | D20: 式 | E20: =空調!G159 -> 0 | F20: =SUM(C20*E20) -> 0
F21: 小計: | G21: =SUM(F20:F21) -> 0
A22: 八 | B22: 1/2/3樓消防工程 | C22: 1 | D22: 式 | E22: =消防!G70 -> 0 | F22: =SUM(C22*E22) -> 0
F23: 小計: | G23: =SUM(F22:F23) -> 0
A24: 九 | B24: 公區裝修工程 | C24: 1 | D24: 式 | E24: =公區!G46 -> 0 | F24: =SUM(C24*E24) -> 0
F25: 小計: | G25: =F24 -> 0
B27: 直接工程費(壹)合計 | F27: 合計 : | G27: =SUM(F7:F27) -> 0
A30: 貳 | B30: 間接工程費
A31: 一 | B31: 工程管理服務費/直接工程費(壹)*8% | C31: 1 | D31: 式 | E31: =G27*0.08 -> 0 | F31: =SUM(C31*E31) -> 0
F32: 小計: | G32: =SUM(F31:F32) -> 0
A33: 二 | B33: 工程保險費/直接工程費(壹)*0.3% | C33: 1 | D33: 式 | E33: =G27*0.003 -> 0 | F33: =SUM(C33*E33) -> 0
F34: 小計: | G34: =SUM(F33:F34) -> 0
A35: 三 | B35: 辦公室室內裝修竣工申請 | C35: 1 | D35: 式 | E35: =室內裝修及消防竣工!G23 -> 0 | F35: =SUM(C35*E35) -> 0
F36: 小計: | G36: =SUM(F35:F36) -> 0
A37: 四 | B37: 竣工圖集繪製 | C37: 1 | D37: 式 | F37: =SUM(C37*E37) -> 0
F38: 小計: | G38: =SUM(F37:F38) -> 0
B40: 間接工程費(貳)合計 | F40: 合計 : | G40: =SUM(F31:F40) -> 0
A42: 叁 | B42: 營業稅/(壹+貳)*5% | C42: 1 | D42: 式 | E42: =SUM(F8:F39)*0.05 -> 0 | F42: =SUM(C42*E42) -> 0
F43: 小計: | G43: =SUM(F42:F43) -> 0
A44: 肆 | B44: 空氣污染防制費/(壹＋貳一＋貳二＋貳三)*0.28% | C44: 1 | D44: 式 | E44: =SUM(F8:F32)*0.0028 -> 0 | F44: =SUM(C44*E44) -> 0
F45: 小計: | G45: =SUM(F44:F45) -> 0
...

Sheet 1F辦公室
E1: 主辦單位:
E2: 工程名稱:
E3: 工程地點:
E4: 日期:
B5: 1樓室內裝修工程
A6: 項次 | B6: 項目說明 | C6: 數量 | D6: 單位 | E6: 單價 | F6: 金額 | G6: 備註
A7: 一 | B7: 假設工程
A8: 1 | B8: 全室電路斷線整理拆廢及臨時線路設置 | C8: 1 | D8: 式
A9: =A8+1 -> 2 | B9: 全室消防警報線路保護及臨時防護 | C9: 1 | D9: 式
A10: =A9+1 -> 3 | B10: 1樓進出貨動線地壁保護工程 | C10: 1 | D10: 式 | G10: 2分夾板+PP板
A11: =A10+1 -> 4 | B11: 1樓臨時圍籬及門/H:260cm | C11: 1 | D11: 式
F12: 小計: | G12: =SUM(F7:F12) -> 0
A13: 二 | B13: 拆除工程
A14: 1 | B14: 設計範圍原有鋁板天花含天花設備拆除清運/局部吊筋切除 | C14: 1 | D14: 式
A15: =A14+1 -> 2 | B15: 原木作雙開門樘/單開門樘拆除清運 | C15: 1 | D15: 式
A16: =A15+1 -> 3 | B16: 局部原有輕隔間拆除清運 | C16: 1 | D16: 式
A17: =A16+1 -> 4 | B17: 原有觀景窗框及玻璃拆除清運 | C17: 1 | D17: 式
A18: =A17+1 -> 5 | B18: 原有窗簾拆除清運 | C18: 1 | D18: 式
A19: =A18+1 -> 6 | B19: 局部原有空調風管軟管出風口拆除清運 | C19: 1 | D19: 式
A20: =A19+1 -> 7 | B20: 上項廢棄物清運車資含搬運 | C20: 1 | D20: 式
F21: 小計: | G21: =SUM(F13:F21) -> 0
A22: 三 | B22: 輕隔間/輕鋼架天花工程(環球牌石膏板/USG礦纖板)
A23: 1 | B23: 全室9cm雙面單層石膏板隔間牆/H:360cm/含補強 | C23: 170 | D23: M2 | G23: 內填60K岩棉
A24: =A23+1 -> 2 | B24: 全室9cm雙面單層石膏板隔間牆/H:240cm | C24: 17 | D24: M2 | G24: 內填12K隔音棉
A25: =A24+1 -> 3 | B25: 全室新設輕鋼架礦纖天花板/12mm | C25: 21 | D25: 坪
A26: =A25+1 -> 4 | B26: 體驗攝影棚活動隔間/H:240cm | C26: 1 | D26: 式
A27: =A26+1 -> 5 | B27: 上項活動隔間雙面貼壁布 | C27: 1 | D27: 式
F28: 小計: | G28: =SUM(F22:F28) -> 0
A29: 四 | B29: 水電工程/華新麗華/太平洋
A30: 1 | B30: 總配電箱配線迴路整理 | C30: 1 | D30: 式
A31: =A30+1 -> 2 | B31: 天花金屬線槽含配件/吊架含安裝/水電及資訊 | C31: 1 | D31: 式
A32: =A31+1 -> 3 | B32: 全室新設燈具配管出線 | C32: 1 | D32: 式
A33: =A32+1 -> 4 | B33: 全室燈具單切開關新增迴路配管出線 | C33: 15 | D33: 切
A34: =A33+1 -> 5 | B34: 全室新增燈具電源迴路 | C34: 2 | D34: 迴
A35: =A34+1 -> 6 | B35: 全室插座新增配管出線/壁面出線 | C35: 32 | D35: 口
A36: =A35+1 -> 7 | B36: 全室插座新增配管出線/WIFI APP | C36: 2 | D36: 口
A37: =A36+1 -> 8 | B37: 電源新增配管出線/門禁設備用 | C37: 3 | D37: 口
A38: =A37+1 -> 9 | B38: 全室新增插座迴路配管出線/110V/220V/專迴 | C38: 6 | D38: 迴
A39: =A38+1 -> 10 | B39: 全室HDMI線2.0新增配管出線 | C39: 1 | D39: 式
A40: =A39+1 -> 11 | B40: 全室局部地板打鑿及水泥抹平固定 | C40: 1 | D40: 式 | G40: 15人會議室
...

Sheet 1F OA
E1: 主辦單位:
E2: 工程名稱:
E3: 工程地點:
E4: 日期:
B5: 1樓OA家具設備
A6: 項次 | B6: 項目說明 | C6: 數量 | D6: 單位 | E6: 單價 | F6: 金額 | G6: 備註
A7: 6人 會議室
A8: 1 | B8: 會議桌 | C8: W180*D90 | D8: 1 | G8: 桌板:可選色系統板/四角平收 桌腳:雙斜ㄇ桌腳/烤漆白色 單掀三孔線盒:白色 蛇管:白色
A9: 30人 會議室
A10: =A8+1 -> 2 | B10: 摺疊活動會議桌 | C10: W160*D60 | D10: 6 | G10: 桌面:不加價色/四邊平收 鋼製前擋板:烤白色 鋼製置物架 尼龍輪:帶煞車
A11: =A10+1 -> 3 | B11: 會議椅 | C11: W58*D43*H83 | D11: 30 | G11: 椅身：全新聚丙烯加玻璃纖維/承重130KG_x000B_ 掛鉤：承重8KG 可選色:白色/灰色/藍色 含布坐墊 交期:30-45天
F12: 小計: | G12: =SUM(F7:F12) -> 0
F14: 合計: | G14: =SUM(F8:F13) -> 0
F17: 總計: | G17: =SUM(F7:F16) -> 0
B20: 以上報價不含:(1) 5%營業稅

Sheet 2F辦公室
E1: 主辦單位:
E2: 工程名稱:
E3: 工程地點:
E4: 日期:
B5: 2樓室內裝修工程
A6: 項次 | B6: 項目說明 | C6: 數量 | D6: 單位 | E6: 單價 | F6: 金額 | G6: 備註
A7: 一 | B7: 假設工程
A8: 1 | B8: 全室電路斷線整理拆廢及臨時線路設置 | C8: 1 | D8: 式
A9: =A8+1 -> 2 | B9: 全室消防警報線路保護及臨時防護 | C9: 1 | D9: 式
A10: =A9+1 -> 3 | B10: 2樓進出貨動線地壁保護工程 | C10: 1 | D10: 式 | G10: 2分夾板+PP板
F11: 小計: | G11: =SUM(F7:F11) -> 0
A12: 二 | B12: 拆除工程 | G12: 原有燈具保留給業主
A13: 1 | B13: 原有輕鋼架天花含天花設備拆除清運/吊筋切除 | C13: 1 | D13: 式
A14: =A13+1 -> 2 | B14: 原入口金屬玻璃門樘/辦公間金屬門樘拆除清運 | C14: 1 | D14: 式
A15: =A14+1 -> 3 | B15: 原有輕隔間拆除清運 | C15: 1 | D15: 式
A16: =A15+1 -> 4 | B16: 原有OA隔間及門樘拆除清運 | C16: 1 | D16: 式
A17: =A16+1 -> 5 | B17: 原有窗簾拆除清運 | C17: 1 | D17: 式
A18: =A17+1 -> 6 | B18: 原有樓梯踏階局部切除 | C18: 1 | D18: 式
A19: =A18+1 -> 7 | B19: 會議室烤漆玻璃白板拆除 | C19: 1 | D19: 式
A20: =A19+1 -> 8 | B20: 原有空調風管軟管設備出風口拆除清運 | C20: 1 | D20: 式
A21: =A20+1 -> 9 | B21: 上項廢棄物清運車資含搬運 | C21: 1 | D21: 式
F22: 小計: | G22: =SUM(F12:F22) -> 0
A23: 三 | B23: 輕隔間/輕鋼架天花工程(環球牌石膏板/USG礦纖板)
A24: 1 | B24: 全室9cm雙面單層石膏板隔間牆/H:360cm/含補強 | C24: 192 | D24: M2 | G24: 內填60K岩棉
A25: =A24+1 -> 2 | B25: 全室9cm雙面單層石膏板隔間牆/H:240cm | C25: 20 | D25: M2 | G25: 內填12K隔音棉
A26: =A25+1 -> 3 | B26: 全室新設輕鋼架礦纖天花板/12mm | C26: 19 | D26: 坪
F27: 小計: | G27: =SUM(F23:F27) -> 0
A28: 四 | B28: 水電工程/華新麗華/太平洋
A29: 1 | B29: 總配電箱配線迴路整理 | C29: 1 | D29: 式
A30: =A29+1 -> 2 | B30: 天花金屬線槽含配件/吊架含安裝/水電及資訊 | C30: 1 | D30: 式
A31: =A30+1 -> 3 | B31: 天花板PVC電管配管及五金材料固定 | C31: 1 | D31: 式
A32: =A31+1 -> 4 | B32: 全室新設燈具出線 | C32: 1 | D32: 式
A33: =A32+1 -> 5 | B33: 全室燈具單切開關新增迴路配管出線 | C33: 31 | D33: 切
A34: =A33+1 -> 6 | B34: 全室新增燈具電源迴路 | C34: 3 | D34: 迴
A35: =A34+1 -> 7 | B35: 全室插座新增配管出線/辦公桌 | C35: 138 | D35: 口
A36: =A35+1 -> 8 | B36: 全室插座新增配管出線/壁面出線 | C36: 54 | D36: 口
A37: =A36+1 -> 9 | B37: 全室插座新增配管出線/WIFI APP | C37: 3 | D37: 口
A38: =A37+1 -> 10 | B38: 電源新增配管出線/門禁設備/大門自動門機 | C38: 2 | D38: 口
A39: =A38+1 -> 11 | B39: 全室新增UPS插座配管出線 | C39: 8 | D39: 口
A40: =A39+1 -> 12 | B40: 全室新增插座迴路配管出線/110V/220V/專迴 | C40: 26 | D40: 迴
...

Sheet 2F OA
E1: 主辦單位:
E2: 工程名稱:
E3: 工程地點:
E4: 日期:
B5: 2樓OA家具設備
A6: 項次 | B6: 項目說明 | C6: 數量 | D6: 單位 | E6: 單價 | F6: 金額 | G6: 備註
A7: 開放辦公區 節目部/行銷企劃部
A8: 1 | B8: 2人屏風工作站 | C8: W120*D70 | D8: 2 | G8: H102/白框/白平鋼+30布 桌板:美耐板不加價色/雙圓孔/四角平收 走線槽:左右各三孔
A9: =A8+1 -> 2 | B9: 3人屏風工作站 | C9: W120*D70*2/ W140*D70*1 | D9: 1 | G9: H102/白框/白平鋼+30布 桌板:美耐板不加價色/雙圓孔/四角平收 走線槽:左右各三孔
A10: =A9+1 -> 3 | B10: 4人屏風工作站 | C10: W120*D70 | D10: 4 | G10: H102/白框/白平鋼+30布 桌板:美耐板不加價色/雙圓孔/四角平收 走線槽:左右各三孔
A11: =A10+1 -> 4 | B11: 5人屏風工作站 | C11: W120*D70*4/ W140*D70*1 | D11: 2 | G11: H102/白框/白平鋼+30布 桌板:美耐板不加價色/雙圓孔/四角平收 走線槽:左右各三孔
A12: =A11+1 -> 5 | B12: 7人屏風工作站 | C12: W120*D70*6/ W140*D70*1 | D12: 1 | G12: H102/白框/白平鋼+30布 桌板:美耐板不加價色/雙圓孔/四角平收 走線槽:左右各三孔
A13: =A12+1 -> 6 | B13: 9人屏風工作站 | C13: W120*D70*8/ W140*D70*1 | D13: 2 | G13: H102/白框/白平鋼+30布 桌板:美耐板不加價色/雙圓孔/四角平收 走線槽:左右各三孔
A14: =A13+1 -> 7 | B14: 11人屏風工作站 | C14: W120*D70*10/ W140*D70*1 | D14: 1 | G14: H102/白框/白平鋼+30布 桌板:美耐板不加價色/雙圓孔/四角平收 走線槽:左右各三孔
A15: =A14+1 -> 8 | B15: 活動櫃 | C15: W40 | D15: 69 | G15: 訂製烤漆:白色/黑色
A16: =A15+1 -> 9 | B16: 中背辦公椅 | D16: 69 | G16: 全網坐墊/白色 S弧椅背 固定扶手 原位鎖定底盤 升降氣壓
A17: 剪輯工作站*5
A18: =A16+1 -> 10 | B18: 工作桌 | C18: W140*D70 | D18: 3 | G18: 桌板:美耐板不加價色/雙圓孔/四角平收 桌腳:鋼製烤漆
A19: =A18+1 -> 11 | B19: 工作桌 | C19: W240*D70 | D19: 1 | G19: 桌板:美耐板不加價色/雙圓孔/四角平收 桌腳:鋼製烤漆
A20: 剪輯間*2
A21: =A19+1 -> 12 | B21: 工作桌 | C21: W160*70 | D21: 2 | G21: 桌板:美耐板不加價色/雙圓孔/四角平收 桌腳:鋼製烤漆
A22: 台長室
A23: =A21+1 -> 13 | B23: 會議桌 | C23: W200*D100 | D23: 1 | G23: 桌板:可選色系統板/四角平收 桌腳:雙斜ㄇ桌腳/烤漆白色 單掀三孔線盒:同桌板色蓋板 蛇管:白色
A24: =A23+1 -> 14 | B24: 會議椅 | C24: W58*D43*H83 | D24: 6 | G24: 椅身：全新聚丙烯加玻璃纖維/承重130KG_x000B_ 掛鉤：承重8KG 可選色:白色/灰色/藍色 含布坐墊 交期:30-45天
A25: 輕食茶水區
F28: 小計: | G28: =SUM(F8:F28) -> 0
F30: 合計: | G30: =SUM(F7:F29) -> 0
F34: 總計: | G34: =SUM(F7:F33) -> 0
B38: 以上報價不含:(1) 5%營業稅

Sheet 3F辦公室 
E1: 主辦單位:
E2: 工程名稱:
E3: 工程地點:
E4: 日期:
B5: 3樓室內裝修工程
A6: 項次 | B6: 項目說明 | C6: 數量 | D6: 單位 | E6: 單價 | F6: 金額 | G6: 備註
A7: 一 | B7: 假設工程
A8: 1 | B8: 3樓進出貨動線地壁保護工程 | C8: 1 | D8: 式 | G8: 2分夾板+PP板
F9: 小計: | G9: =SUM(F7:F9) -> 0
A10: 二 | B10: 拆除工程
A11: 1 | B11: 原入口金屬玻璃門樘/空調設備拆除清運 | C11: 1 | D11: 式
F12: 小計: | G12: =SUM(F10:F12) -> 0
A13: 三 | B13: 輕隔間/輕鋼架天花工程(環球牌石膏板/USG礦纖板)
A14: 1 | B14: 全室9cm雙面單層石膏板隔間牆/H:360cm/含補強 | C14: 307 | D14: M2 | G14: 內填60K岩棉
A15: =A14+1 -> 2 | B15: 全室9cm雙面單層石膏板隔間牆/H:240cm | C15: 37 | D15: M2 | G15: 內填12K隔音棉
A16: =A15+1 -> 3 | B16: 全室新設輕鋼架礦纖天花板/12mm | C16: 32 | D16: 坪
F17: 小計: | G17: =SUM(F13:F17) -> 0
A18: 四 | B18: 水電工程/華新麗華/太平洋
A19: 1 | B19: 總配電箱配線迴路整理 | C19: 1 | D19: 式
A20: =A19+1 -> 2 | B20: 天花金屬線槽含配件/吊架含安裝/水電及資訊 | C20: 1 | D20: 式
A21: =A20+1 -> 3 | B21: 天花板PVC電管配管及五金材料固定 | C21: 1 | D21: 式
A22: =A21+1 -> 4 | B22: 全室新設燈具出線 | C22: 1 | D22: 式
A23: =A22+1 -> 5 | B23: 全室燈具單切開關新增迴路配管出線 | C23: 45 | D23: 切
A24: =A23+1 -> 6 | B24: 全室新增燈具電源迴路 | C24: 3 | D24: 迴
A25: =A24+1 -> 7 | B25: 全室插座新增配管出線/辦公桌 | C25: 99 | D25: 口
A26: =A25+1 -> 8 | B26: 全室插座新增配管出線/壁面出線 | C26: 57 | D26: 口
A27: =A26+1 -> 9 | B27: 全室插座新增配管出線/天花出線/WIFI APP | C27: 3 | D27: 口
A29: 10 | B29: 全室UPS不斷電插座新增配管出線 | C29: 27 | D29: 口
A30: =A29+1 -> 11 | B30: 全室新增插座迴路配管出線/110V/220V/專迴 | C30: 23 | D30: 迴
A31: =A30+1 -> 12 | B31: 全室新增UPS插座迴路配管出線 | C31: 4 | D31: 迴
A32: =A31+1 -> 13 | B32: 全室局部地板打鑿及水泥抹平固定 | C32: 1 | D32: 式
A33: =A32+1 -> 14 | B33: 梯間壁面鑽孔洗洞 | C33: 1 | D33: 式
A34: =A33+1 -> 15 | B34: 空調室外機電源插座新增配管出線 | C34: 3 | D34: 口
F35: 小計: | G35: =SUM(F18:F35) -> 0
A36: 五 | B36: 資訊工程/大同 CAT.6 24AWG
A37: 1 | B37: 網6U網路收容箱 | C37: 1 | D37: 式
A38: =A37+1 -> 2 | B38: CAT.6E 超6網路主幹/台製/6U收容箱至梯間機櫃 | C38: 1 | D38: 式
A39: =A38+1 -> 3 | B39: 全室Cat.6網路插座新增配管出線 | C39: 82 | D39: 口
A40: =A39+1 -> 4 | B40: 全室Cat.6網路插座線新增配管出線/天花WIFI AP | C40: 3 | D40: 口
A41: =A40+1 -> 5 | B41: 全室電話4C線插座新增配管出線/華新OR太平洋 | C41: 63 | D41: 口
...

Sheet 3F OA
E1: 主辦單位:
E2: 工程名稱:
E3: 工程地點:
E4: 日期:
B5: 3樓OA家具設備
A6: 項次 | B6: 項目說明 | C6: 數量 | D6: 單位 | E6: 單價 | F6: 金額 | G6: 備註
A7: 開放辦公區 新聞部
A8: 1 | B8: 6人屏風工作站 | C8: W120*D70*6 | D8: 3 | G8: H102/白框/白平鋼+30布 桌板:美耐板不加價色/雙圓孔/四角平收 走線槽:左右各三孔
A9: =A8+1 -> 2 | B9: 6人屏風工作站 | C9: W120*D70*2/ W140*D70*4 | D9: 1 | G9: H102/白框/白平鋼+30布 桌板:美耐板不加價色/雙圓孔/四角平收 走線槽:左右各三孔
A10: =A9+1 -> 3 | B10: 7人屏風工作站 | C10: W120*D70*6/ W140*D70*1 | D10: 3 | G10: H102/白框/白平鋼+30布 桌板:美耐板不加價色/雙圓孔/四角平收 走線槽:左右各三孔
A11: =A10+1 -> 4 | B11: 8人屏風工作站 | C11: W120*D70*6/ W140*D70*2 | D11: 1 | G11: H102/白框/白平鋼+30布 桌板:美耐板不加價色/雙圓孔/四角平收 走線槽:左右各三孔
A12: =A11+1 -> 5 | B12: 活動櫃 | D12: 53 | G12: 訂製烤漆:白色/黑色
A13: =A12+1 -> 6 | B13: 中背辦公椅 | D13: 53 | G13: 全網坐墊/白色 S弧椅背 固定扶手 原位鎖定底盤 升降氣壓
A14: 行銷製作組 辦公室
A15: =A13+1 -> 7 | B15: 兩節式雙電機升降桌 | C15: W140*D70 | D15: 9 | G15: 桌板:不加價色美耐板/雙圓孔 桌架顏色:黑色/白色 五年保固/承重120公斤 升降範圍 71~121公分(含桌板厚2.5公分) 四組記憶功能 遇阻回退安全保護
A16: =A15+1 -> 8 | B16: 2.5屏風含走線槽 | C16: W140*L70*H142 | D16: 9 | G16: 白框/72白平鋼+30布+40白平鋼
A17: =A16+1 -> 9 | B17: 中背辦公椅 | D17: 9 | G17: 全網坐墊/白色 S弧椅背 固定扶手 原位鎖定底盤 升降氣壓
A18: 8人 會議室
A19: =A17+1 -> 10 | B19: 會議桌 | C19: W240*D100 | D19: 1 | G19: 桌板:可選色系統板/四角平收 桌腳:造型桌腳/烤漆白色 單掀三孔線盒:同桌板色蓋板 蛇管:白色
A20: =A19+1 -> 11 | B20: 會議椅 | C20: W58*D43*H83 | D20: 8 | G20: 椅身：全新聚丙烯加玻璃纖維/承重130KG_x000B_ 掛鉤：承重8KG 可選色:白色/灰色/藍色 含布坐墊 交期:30-45天
A21: 配音室*10 / 剪輯間*3 / NIC
A22: =A20+1 -> 12 | B22: 工作桌 | C22: W120*D70 | D22: 6 | G22: 桌板:美耐板不加價色/雙園孔/四角平收 桌腳:鋼製烤漆
A23: =A22+1 -> 13 | B23: 工作桌 | C23: W140*D70 | D23: 1 | G23: 桌板:美耐板不加價色/雙園孔/四角平收 桌腳:鋼製烤漆
A24: =A23+1 -> 14 | B24: 工作桌 | C24: W160*D70 | D24: 3 | G24: 桌板:美耐板不加價色/雙園孔/四角平收 桌腳:鋼製烤漆
A25: =A24+1 -> 15 | B25: 工作桌 | C25: W180*D70 | D25: 3 | G25: 桌板:美耐板不加價色/雙園孔/四角平收 桌腳:鋼製烤漆
A26: =A25+1 -> 16 | B26: 工作桌 | C26: W240*D70 | D26: 1 | G26: 桌板:美耐板不加價色/雙園孔/四角平收 桌腳:鋼製烤漆
A27: 茶水區
F29: 小計: | G29: =SUM(F7:F29) -> 0
F31: 合計: | G31: =SUM(F7:F30) -> 0
F35: 總計: | G35: =SUM(F7:F34) -> 0
B39: 以上報價不含:(1) 5%營業稅

Sheet 空調
E1: 主辦單位:
E2: 工程名稱:
E3: 工程地點:
E4: 日期:
B5: 空調工程
A6: 項次 | B6: 項目說明 | C6: 數量 | D6: 單位 | E6: 單價 | F6: 金額 | G6: 備註
A8: 風管系統
A9: 一 | B9: 1樓風管系統
A10: 1 | B10: ABS擴散出風口 / 60*60cm | C10: 8 | D10: 組
A11: =A10+1 -> 2 | B11: 花板回風口 | C11: 8 | D11: 組
A12: =A11+1 -> 3 | B12: ABS線型出風口 / 10*100cm | C12: 8 | D12: 組
A13: =A12+1 -> 4 | B13: 線型出風風箱下吹 | C13: 6 | D13: 式
A15: 5 | B15: 儲藏間既設出風口廢掉遮擋補板 | C15: 1 | D15: 式
A16: =A15+1 -> 6 | B16: 全室送風保溫軟管 | C16: 1 | D16: 式 | G16: 參考值：75M
A17: =A16+1 -> 7 | B17: 1/2/3樓風管系統測試及調整(不含TAB.CX簽證費用) | C17: 1 | D17: 式
A18: =A17+1 -> 8 | B18: 1/2/3樓風管系統五金另料及運雜費 | C18: 1 | D18: 式
F19: 小計: | G19: =SUM(F9:F19) -> 0
A20: 二 | B20: 2樓風管系統 (出/回風消音箱沿用既有不拆除) | G20: 梯廳廁所段暫不變更
A21: 1 | B21: 鍍鋅回風管 170*50cm 製作工料 | C21: 10 | D21: M
A22: =A21+1 -> 2 | B22: 鍍鋅回風管 安裝工資 | C22: 1 | D22: 式
A23: =A22+1 -> 3 | B23: ABS回風百葉 200*50cm 安裝工料 | C23: 1 | D23: 式
A24: =A23+1 -> 4 | B24: 鍍鋅出風管含PE保溫 150*30cm 製作工料 | C24: 4 | D24: M
A25: =A24+1 -> 5 | B25: 鍍鋅出風管含PE保溫 120*30cm 製作工料 | C25: 10 | D25: M
A26: =A25+1 -> 6 | B26: 鍍鋅出風管含PE保溫 90*30cm 製作工料 | C26: 15 | D26: M
A27: =A26+1 -> 7 | B27: 鍍鋅出風管含PE保溫 70*30cm 製作工料 | C27: 18 | D27: M
A28: =A27+1 -> 8 | B28: 鍍鋅出風管含PE保溫 30*30cm 製作工料 | C28: 5 | D28: M
A29: =A28+1 -> 9 | B29: 出風管 安裝工資 | C29: 1 | D29: 式
A30: =A29+1 -> 10 | B30: ABS出風百葉 30*25cm 安裝工料(含VD) | C30: 19 | D30: 組
A31: =A30+1 -> 11 | B31: ABS擴散出風口 / 60*60cm | C31: 9 | D31: 組
A32: =A31+1 -> 12 | B32: 花板回風口 | C32: 3 | D32: 組
A33: =A32+1 -> 13 | B33: ABS線型出風口 / 10*100cm | C33: 3 | D33: 組
A34: =A33+1 -> 14 | B34: 線型出風風箱下吹 | C34: 3 | D34: 式
A35: =A34+1 -> 15 | B35: 全室送風保溫軟管 | C35: 1 | D35: 式 | G35: 參考值：70M
A36: =A35+1 -> 16 | B36: VAVBOX (2000CFM) | C36: 3 | D36: 組 | G36: 建煜.峰緯.順光或同等品
A37: =A36+1 -> 17 | B37: VAVBOX (1600CFM) | C37: 1 | D37: 組 | G37: 建煜.峰緯.順光或同等品
A38: =A37+1 -> 18 | B38: VAVBOX ( 800CFM) | C38: 1 | D38: 組 | G38: 建煜.峰緯.順光或同等品
A39: =A38+1 -> 19 | B39: VAVBOX 安裝工料 | C39: 5 | D39: 組
A40: =A39+1 -> 20 | B40: 既設出回風管/VAV設備/管線拆除 | C40: 1 | D40: 式
A41: =A40+1 -> 21 | B41: 上項廢棄物清運車資含搬運 | C41: 2 | D41: 車
F42: 小計: | G42: =SUM(F20:F42) -> 0
...

Sheet 消防
E1: 主辦單位:
E2: 工程名稱:
E3: 工程地點:
E4: 日期:
B5: 1/2/3樓消防工程
A6: 項次 | B6: 項目說明 | C6: 數量 | D6: 單位 | E6: 單價 | F6: 金額 | G6: 備註
A7: 一 | B7: 1樓消防工程
B8: 消防設備
A9: 1 | B9: 定址式R型探測器 | C9: 13 | D9: 只 | G9: 限國產品牌
A10: =A9+1 -> 2 | B10: LED緊急照明燈 | C10: 8 | D10: 只
A11: =A10+1 -> 3 | B11: LED安全出口燈 | C11: 4 | D11: 只
A12: =A11+1 -> 4 | B12: LED避難方向指示燈 | C12: 1 | D12: 只
A13: =A12+1 -> 5 | B13: 3W揚聲器 | C13: 2 | D13: 只
A14: =A13+1 -> 6 | B14: 10型滅火器ABC及放置箱 | C14: 2 | D14: 組
A15: =A14+1 -> 7 | B15: 新設消防栓箱 | C15: 1 | D15: 式
B16: 管線配置及設備安裝
A17: =A15+1 -> 8 | B17: 探測器配管線及安裝工程 | C17: 13 | D17: 式
A18: =A17+1 -> 9 | B18: 燈具配電源管線及安裝工程 | C18: 13 | D18: 式
A19: =A18+1 -> 10 | B19: 揚聲器配管線及安裝工程 | C19: 2 | D19: 式
A20: =A19+1 -> 11 | B20: 消防栓箱管線配置工程 | C20: 1 | D20: 式
A21: =A20+1 -> 12 | B21: 系統測試整合及測試 | C21: 1 | D21: 式
F22: 小計: | G22: =SUM(F7:F22) -> 0
A23: 二 | B23: 2樓消防工程
B24: 消防設備
A25: 1 | B25: 定址式R型探測器 | C25: 24 | D25: 只 | G25: 限國產品牌
A26: =A25+1 -> 2 | B26: LED緊急照明燈 | C26: 14 | D26: 只
A27: =A26+1 -> 3 | B27: LED安全出口燈 | C27: 1 | D27: 只
A28: =A27+1 -> 4 | B28: LED避難方向指示燈 | C28: 6 | D28: 只
A29: =A28+1 -> 5 | B29: 3W揚聲器 | C29: 5 | D29: 只
A30: =A29+1 -> 6 | B30: 10型滅火器ABC及放置箱 | C30: 4 | D30: 組
A31: =A30+1 -> 7 | B31: LED避難器具燈 | C31: 2 | D31: 只
B32: 管線配置及設備安裝
A33: =A31+1 -> 8 | B33: 探測器配管線及安裝工程 | C33: 24 | D33: 式
A34: =A33+1 -> 9 | B34: 燈具配電源管線及安裝工程 | C34: 23 | D34: 式
A35: =A34+1 -> 10 | B35: 揚聲器配管線及安裝工程 | C35: 5 | D35: 式
A36: =A35+1 -> 11 | B36: 消防系統測試整合及測試 | C36: 1 | D36: 式
F38: 小計: | G38: =SUM(F23:F38) -> 0
A39: 三 | B39: 3樓消防工程
B40: 消防設備
A41: 1 | B41: 定址式R型探測器 | C41: 33 | D41: 只 | G41: 限國產品牌
...

Sheet 公區
E1: 主辦單位:
E2: 工程名稱:
E3: 工程地點:
E4: 日期:
B5: 公區室內裝修工程
A6: 項次 | B6: 項目說明 | C6: 數量 | D6: 單位 | E6: 單價 | F6: 金額 | G6: 備註
A7: 一 | B7: 拆除工程
A9: =A8+1 -> 1 | B9: 3樓廁所設備地面局部保護 | C9: 1 | D9: 式
A10: =A9+1 -> 2 | B10: 3樓梯廳/樓梯間/走道/廁所天花及設備拆除 | C10: 1 | D10: 式
A11: =A10+1 -> 3 | B11: 上項廢棄物清運車資含搬運 | C11: 1.5 | D11: 車
F12: 小計: | G12: =SUM(F7:F12) -> 0
A13: 二 | B13: 水電工程
A15: =A14+1 -> 1 | B15: 3樓廁所新增迴路配管出線 | C15: 1 | D15: 迴
A16: =A15+1 -> 2 | B16: 3樓廁所新設燈具配管出線 | C16: 15 | D16: 式
A17: =A16+1 -> 3 | B17: 3樓廁所燈具開關新增配管出線 | C17: 3 | D17: 只
A18: =A17+1 -> 4 | B18: 3樓廁所排風工程新增面板 | C18: 3 | D18: 式 | G18: 原有排風管不動
A19: =A18+1 -> 5 | B19: 3樓梯廳/走道新設燈具/原有強波器配管出線 | C19: 13 | D19: 只
G20: =SUM(F13:F20) -> 0
F21: 小計: | G21: =SUM(F21:F21) -> 0
A22: 三 | B22: 木作工程
A24: =A23+1 -> 1 | B24: 3樓女廁暗架平頂天花封矽酸鈣板/6mm台灣麗仕/含天花開孔/出風口/維修口 | C24: 2 | D24: 坪
A25: 2 | B25: 3樓男廁暗架平頂天花封矽酸鈣板/6mm台灣麗仕/含天花開孔/出風口/維修口 | C25: 3 | D25: 坪
A26: 3 | B26: 3樓無障礙廁所暗架平頂天花封矽酸鈣板/6mm台灣麗仕/含天花開孔/出風口/維修口 | C26: 1 | D26: 坪
A27: =A26+1 -> 4 | B27: 3樓梯廳/走道暗架平頂天花封矽酸鈣板/6mm台灣麗仕/含天花開孔/出風口/維修口 | C27: 7 | D27: 坪
F28: 小計: | G28: =SUM(F22:F28) -> 0
A29: 四 | B29: 油漆及牆面工程/環保水泥漆/虹牌
A30: 1 | B30: 3樓女廁暗架平頂天花批土刷漆 | C30: 1 | D30: 式
A31: =A30+1 -> 2 | B31: 3樓男廁暗架平頂天花批土刷漆 | C31: 1 | D31: 式
A32: =A31+1 -> 3 | B32: 3樓梯廳/走道暗架平頂天花批土刷漆 | C32: 1 | D32: 式
F33: 小計: | G33: =SUM(F29:F33) -> 0
A34: 五 | B34: 燈具工程
A35: 1 | B35: 3樓廁所LED投射嵌燈 | C35: 15 | D35: 盞 | F35: =SUM(C35*E35) -> 0
A36: =A35+1 -> 2 | B36: 3樓梯廳LED大嵌燈 | C36: 12 | D36: 盞 | F36: =SUM(C36*E36) -> 0
F37: 小計: | G37: =SUM(F34:F37) -> 0
A38: 六 | B38: 其他工程
A40: =A39+1 -> 1 | B40: 3樓梯廳/男女廁所/走道/無障礙廁所完工基本清潔 | C40: 1 | D40: 式
F42: 小計: | G42: =SUM(F38:F42) -> 0
F44: 合計: | G44: =SUM(F7:F44) -> 0
F46: 總計: | G46: =SUM(F7:F45) -> 0
B49: 以上報價不含:(1) 5%營業稅

Sheet 室內裝修及消防竣工
E1: 主辦單位:
E2: 工程名稱:
E3: 工程地點:
E4: 日期:
B5: 辦公室室內裝修竣工申請
A6: 項次 | B6: 項目說明 | C6: 數量 | D6: 單位 | E6: 單價 | F6: 金額 | G6: 備註
A7: 一 | B7: 室內裝修審查費用(建築師費用)
A8: 1 | B8: 室內裝修合格證明申請作業 | C8: 1 | D8: 式
F9: 小計： | G9: =SUM(F7:F9) -> 0
A10: 二 | B10: 消防審查費用(消防技師費用)
A11: 1 | B11: 消防設備監造及測試報告及簽證 | C11: 1 | D11: 式
A12: =A11+1 -> 2 | B12: 消防竣工圖說、竣工照片副本製作 | C12: 1 | D12: 式
A13: =A12+1 -> 3 | B13: 監造計劃執行各階段作業報表製作、現場查驗 | C13: 1 | D13: 式
F14: 小計： | G14: =SUM(F10:F14) -> 0
F19: 合計: | G19: =SUM(F7:F19) -> 0
F23: 總計: | G23: =SUM(F7:F22) -> 0
B27: 以上報價不含:(1) 5%營業稅
