Workbook
Name Excel_BuiltIn_Print_Area_10: #REF!
Name Excel_BuiltIn_Print_Area_10: #REF!
Name Excel_BuiltIn_Print_Area_11: #REF!
Name Excel_BuiltIn_Print_Area_11: #REF!
Name Excel_BuiltIn_Print_Area_12_1: #REF!
Name Excel_BuiltIn_Print_Area_12_1: #REF!
Name Excel_BuiltIn_Print_Area_13_1: #REF!
Name Excel_BuiltIn_Print_Area_13_1: #REF!
Name Excel_BuiltIn_Print_Area_13_1_1: #REF!
Name Excel_BuiltIn_Print_Area_13_1_1: #REF!
Name Excel_BuiltIn_Print_Area_13_1_1_10: #REF!
Name Excel_BuiltIn_Print_Area_13_1_1_10: #REF!
Name Excel_BuiltIn_Print_Area_13_1_1_8: #REF!
Name Excel_BuiltIn_Print_Area_13_1_1_8: #REF!
Name Excel_BuiltIn_Print_Area_14_1: #REF!
Name Excel_BuiltIn_Print_Area_14_1: #REF!
Name Excel_BuiltIn_Print_Area_14_1_10: #REF!
Name Excel_BuiltIn_Print_Area_14_1_10: #REF!
Name Excel_BuiltIn_Print_Area_14_1_8: #REF!
Name Excel_BuiltIn_Print_Area_14_1_8: #REF!
Name Excel_BuiltIn_Print_Area_15_1: #REF!
Name Excel_BuiltIn_Print_Area_15_1: #REF!
Name Excel_BuiltIn_Print_Area_15_1_10: #REF!
Name Excel_BuiltIn_Print_Area_15_1_10: #REF!
Name Excel_BuiltIn_Print_Area_15_1_8: #REF!
Name Excel_BuiltIn_Print_Area_15_1_8: #REF!
Name Excel_BuiltIn_Print_Area_16_1: #REF!
Name Excel_BuiltIn_Print_Area_16_1: #REF!
Name Excel_BuiltIn_Print_Area_16_1_1: #REF!
Name Excel_BuiltIn_Print_Area_16_1_1: #REF!
Name Excel_BuiltIn_Print_Area_16_1_1_10: #REF!
Name Excel_BuiltIn_Print_Area_16_1_1_10: #REF!
Name Excel_BuiltIn_Print_Area_16_1_1_8: #REF!
Name Excel_BuiltIn_Print_Area_16_1_1_8: #REF!
Name Excel_BuiltIn_Print_Area_20_1: #REF!
Name Excel_BuiltIn_Print_Area_20_1: #REF!
Name Excel_BuiltIn_Print_Area_20_1_10: #REF!
Name Excel_BuiltIn_Print_Area_20_1_10: #REF!
Name Excel_BuiltIn_Print_Area_20_1_8: #REF!
Name Excel_BuiltIn_Print_Area_20_1_8: #REF!
Name Excel_BuiltIn_Print_Area_22_1: #REF!
Name Excel_BuiltIn_Print_Area_22_1: #REF!
Name Excel_BuiltIn_Print_Area_22_1_10: #REF!
Name Excel_BuiltIn_Print_Area_22_1_10: #REF!
Name Excel_BuiltIn_Print_Area_22_1_8: #REF!
Name Excel_BuiltIn_Print_Area_22_1_8: #REF!
Name Excel_BuiltIn_Print_Area_3_1: #REF!
Name Excel_BuiltIn_Print_Area_3_1: #REF!
Name Excel_BuiltIn_Print_Area_4_1: #REF!
Name Excel_BuiltIn_Print_Area_4_1: #REF!
Name Excel_BuiltIn_Print_Area_7_1: #REF!
Name Excel_BuiltIn_Print_Area_7_1: #REF!
Name Excel_BuiltIn_Print_Area_7_1_1: #REF!
Name Excel_BuiltIn_Print_Area_7_1_1: #REF!
Name Excel_BuiltIn_Print_Area_9_1: #REF!
Name Excel_BuiltIn_Print_Area_9_1: #REF!
Name GGTGTG: #REF!
Name GGTGTG: #REF!
Name HHHH: #REF!
Name HHHH: #REF!

Sheet 總表
E1: 主辦單位:
E2: 工程名稱:
E3: 工程地點:
E4: 日期:
B5: 1/2/3樓室內裝修工程總表
A6: 項次 | B6: 項目說明 | C6: 數量 | D6: 單位 | E6: 單價 | F6: 金額 | G6: 備註
A7: 壹 | B7: 直接工程費
A8: 一 | B8: 1樓室內裝修工程 | C8: 1 | D8: 式 | E8: ='1F辦公室'!G129 -> 0 | F8: =SUM(C8*E8) -> 0
F9: 小計: | G9: =SUM(F7:F9) -> 0
A10: 二 | B10: 1樓OA家具設備 | C10: 1 | D10: 式 | E10: ='1F OA'!G17 -> 0 | F10: =SUM(C10*E10) -> 0
F11: 小計: | G11: =SUM(F10:F11) -> 0
A12: 三 | B12: 2樓室內裝修工程 | C12: 1 | D12: 式 | E12: ='2F辦公室'!G126 -> 0 | F12: =SUM(C12*E12) -> 0
F13: 小計: | G13: =SUM(F12:F13) -> 0
A14: 四 | B14: 2樓OA家具設備 | C14: 1 | D14: 式 | E14: ='2F OA'!G34 -> 0 | F14: =SUM(C14*E14) -> 0
F15: 小計: | G15: =SUM(F14:F15) -> 0
A16: 五 | B16: 3樓室內裝修工程 | C16: 1 | D16: 式 | E16: ='3F辦公室 '!G121 -> 0 | F16: =SUM(C16*E16) -> 0
F17: 小計: | G17: =SUM(F16:F17) -> 0
A18: 六 | B18: 3樓OA家具設備 | C18: 1 | D18: 式 | E18: ='3F OA'!G35 -> 0 | F18: =SUM(C18*E18) -> 0
F19: 小計: | G19: =SUM(F18:F19) -> 0
A20: 七 | B20: 1/2/3樓空調工程 | C20: 1 | D20: 式 | E20: =空調!G159 -> 0 | F20: =SUM(C20*E20) -> 0
F21: 小計: | G21: =SUM(F20:F21) -> 0
A22: 八 | B22: 1/2/3樓消防工程 | C22: 1 | D22: 式 | E22: =消防!G70 -> 0 | F22: =SUM(C22*E22) -> 0
F23: 小計: | G23: =SUM(F22:F23) -> 0
A24: 九 | B24: 公區裝修工程 | C24: 1 | D24: 式 | E24: =公區!G46 -> 0 | F24: =SUM(C24*E24) -> 0
F25: 小計: | G25: =F24 -> 0
B27: 直接工程費(壹)合計 | F27: 合計 : | G27: =SUM(F7:F27) -> 0
A30: 貳 | B30: 間接工程費
A31: 一 | B31: 工程管理服務費/直接工程費(壹)*8% | C31: 1 | D31: 式 | E31: =G27*0.08 -> 0 | F31: =SUM(C31*E31) -> 0
F32: 小計: | G32: =SUM(F31:F32) -> 0
A33: 二 | B33: 工程保險費/直接工程費(壹)*0.3% | C33: 1 | D33: 式 | E33: =G27*0.003 -> 0 | F33: =SUM(C33*E33) -> 0
F34: 小計: | G34: =SUM(F33:F34) -> 0
A35: 三 | B35: 辦公室室內裝修竣工申請 | C35: 1 | D35: 式 | E35: =室內裝修及消防竣工!G23 -> 0 | F35: =SUM(C35*E35) -> 0
F36: 小計: | G36: =SUM(F35:F36) -> 0
A37: 四 | B37: 竣工圖集繪製 | C37: 1 | D37: 式 | F37: =SUM(C37*E37) -> 0
F38: 小計: | G38: =SUM(F37:F38) -> 0
B40: 間接工程費(貳)合計 | F40: 合計 : | G40: =SUM(F31:F40) -> 0
A42: 叁 | B42: 營業稅/(壹+貳)*5% | C42: 1 | D42: 式 | E42: =SUM(F8:F39)*0.05 -> 0 | F42: =SUM(C42*E42) -> 0
F43: 小計: | G43: =SUM(F42:F43) -> 0
A44: 肆 | B44: 空氣污染防制費/(壹＋貳一＋貳二＋貳三)*0.28% | C44: 1 | D44: 式 | E44: =SUM(F8:F32)*0.0028 -> 0 | F44: =SUM(C44*E44) -> 0
F45: 小計: | G45: =SUM(F44:F45) -> 0
B49: 總發包工程費合計/含稅5% | F49: 總計 : | G49: =SUM(F7:F48) -> 0

Sheet 1F辦公室
E1: 主辦單位:
E2: 工程名稱:
E3: 工程地點:
E4: 日期:
B5: 1樓室內裝修工程
A6: 項次 | B6: 項目說明 | C6: 數量 | D6: 單位 | E6: 單價 | F6: 金額 | G6: 備註
A7: 一 | B7: 假設工程
A8: 1 | B8: 全室電路斷線整理拆廢及臨時線路設置 | C8: 1 | D8: 式
A9: =A8+1 -> 2 | B9: 全室消防警報線路保護及臨時防護 | C9: 1 | D9: 式
A10: =A9+1 -> 3 | B10: 1樓進出貨動線地壁保護工程 | C10: 1 | D10: 式 | G10: 2分夾板+PP板
A11: =A10+1 -> 4 | B11: 1樓臨時圍籬及門/H:260cm | C11: 1 | D11: 式
F12: 小計: | G12: =SUM(F7:F12) -> 0
A13: 二 | B13: 拆除工程
A14: 1 | B14: 設計範圍原有鋁板天花含天花設備拆除清運/局部吊筋切除 | C14: 1 | D14: 式
A15: =A14+1 -> 2 | B15: 原木作雙開門樘/單開門樘拆除清運 | C15: 1 | D15: 式
A16: =A15+1 -> 3 | B16: 局部原有輕隔間拆除清運 | C16: 1 | D16: 式
A17: =A16+1 -> 4 | B17: 原有觀景窗框及玻璃拆除清運 | C17: 1 | D17: 式
A18: =A17+1 -> 5 | B18: 原有窗簾拆除清運 | C18: 1 | D18: 式
A19: =A18+1 -> 6 | B19: 局部原有空調風管軟管出風口拆除清運 | C19: 1 | D19: 式
A20: =A19+1 -> 7 | B20: 上項廢棄物清運車資含搬運 | C20: 1 | D20: 式
F21: 小計: | G21: =SUM(F13:F21) -> 0
A22: 三 | B22: 輕隔間/輕鋼架天花工程(環球牌石膏板/USG礦纖板)
A23: 1 | B23: 全室9cm雙面單層石膏板隔間牆/H:360cm/含補強 | C23: 170 | D23: M2 | G23: 內填60K岩棉
A24: =A23+1 -> 2 | B24: 全室9cm雙面單層石膏板隔間牆/H:240cm | C24: 17 | D24: M2 | G24: 內填12K隔音棉
A25: =A24+1 -> 3 | B25: 全室新設輕鋼架礦纖天花板/12mm | C25: 21 | D25: 坪
A26: =A25+1 -> 4 | B26: 體驗攝影棚活動隔間/H:240cm | C26: 1 | D26: 式
A27: =A26+1 -> 5 | B27: 上項活動隔間雙面貼壁布 | C27: 1 | D27: 式
F28: 小計: | G28: =SUM(F22:F28) -> 0
A29: 四 | B29: 水電工程/華新麗華/太平洋
A30: 1 | B30: 總配電箱配線迴路整理 | C30: 1 | D30: 式
A31: =A30+1 -> 2 | B31: 天花金屬線槽含配件/吊架含安裝/水電及資訊 | C31: 1 | D31: 式
A32: =A31+1 -> 3 | B32: 全室新設燈具配管出線 | C32: 1 | D32: 式
A33: =A32+1 -> 4 | B33: 全室燈具單切開關新增迴路配管出線 | C33: 15 | D33: 切
A34: =A33+1 -> 5 | B34: 全室新增燈具電源迴路 | C34: 2 | D34: 迴
A35: =A34+1 -> 6 | B35: 全室插座新增配管出線/壁面出線 | C35: 32 | D35: 口
A36: =A35+1 -> 7 | B36: 全室插座新增配管出線/WIFI APP | C36: 2 | D36: 口
A37: =A36+1 -> 8 | B37: 電源新增配管出線/門禁設備用 | C37: 3 | D37: 口
A38: =A37+1 -> 9 | B38: 全室新增插座迴路配管出線/110V/220V/專迴 | C38: 6 | D38: 迴
A39: =A38+1 -> 10 | B39: 全室HDMI線2.0新增配管出線 | C39: 1 | D39: 式
A40: =A39+1 -> 11 | B40: 全室局部地板打鑿及水泥抹平固定 | C40: 1 | D40: 式 | G40: 15人會議室
A41: =A40+1 -> 12 | B41: 梯間壁面鑽孔洗洞 | C41: 1 | D41: 式
F42: 小計: | G42: =SUM(F29:F42) -> 0
A43: 五 | B43: 資訊工程/大同 CAT.6 24AWG
A44: 1 | B44: 網6U網路收容箱 | C44: 1 | D44: 式
A45: =A44+1 -> 2 | B45: CAT.6E 超6網路主幹/台製/6U收容箱至梯間機櫃 | C45: 1 | D45: 式
A46: =A45+1 -> 3 | B46: 100對電信主幹/2F6U收容箱至1F電信箱 | C46: 1 | D46: 式
A47: =A46+1 -> 4 | B47: 100對電信主幹/3F6U收容箱至1F電信箱 | C47: 1 | D47: 式
A48: =A47+1 -> 5 | B48: 100對主幹安裝工資 | C48: 1 | D48: 式
A49: =A48+1 -> 6 | B49: 100對電信端子板 | C49: 1 | D49: 式
A50: =A49+1 -> 7 | B50: 全室資訊插座編號RJ45 & 標籤材料 | C50: 1 | D50: 式
A51: =A50+1 -> 8 | B51: 全室Cat.6網路插座新增配管出線 | C51: 11 | D51: 口
A52: =A51+1 -> 9 | B52: 全室Cat.6網路插座線新增配管出線/天花WIFI AP | C52: 2 | D52: 口
A54: 10 | B54: 全室網路線測報 | C54: 1 | D54: 式
B55: 分機信號跳線工程/2/3F牽至1F
A56: =A54+1 -> 11 | B56: 2C 藍白跳線 | C56: 1 | D56: 式
A57: =A56+1 -> 12 | B57: 跳線工資 | C57: 1 | D57: 式
F58: 小計: | G58: =SUM(F43:F58) -> 0
A59: 六 | B59: 木作工程/科技板/美耐板/耐燃一級板
A60: 1 | B60: 全室暗架平頂天花封矽酸鈣板/6mm台灣麗仕/含天花開孔/出風口/維修口 | C60: 17 | D60: 坪 | G60: 體驗攝影棚/8人會議室
A62: 2 | B62: 全室木作窗簾盒 | C62: 35.5 | D62: 尺 | G62: 15/30人會議室
A63: =A62+1 -> 3 | B63: 入口形象牆木作造型封版含結構/耐燃一級板 | C63: 26 | D63: 尺
A64: =A63+1 -> 4 | B64: 入口形象牆木作燈槽面噴漆 | C64: 1 | D64: 式 | G64: 參考值：55尺
A65: =A64+1 -> 5 | B65: 入口形象牆木作拉門/耐燃一級板/含五金軌道 | C65: 1 | D65: 式
A66: =A65+1 -> 6 | B66: 入口形象牆木作造型展示櫃/面噴漆 | C66: 2 | D66: 式
A67: =A66+1 -> 7 | B67: 入口雙開門組/含五金把手绞鍊/面刷漆 | C67: 1 | D67: 樘
A68: =A67+1 -> 8 | B68: 攝影器材儲藏間木作單開門組/含五金把手绞鍊/面刷漆 | C68: 1 | D68: 樘
A69: =A68+1 -> 9 | B69: 儲藏間木作拉門組/含五金把手緩衝绞鍊滑軌/面刷漆 | C69: 1 | D69: 樘
A70: =A69+1 -> 10 | B70: 儲藏間壁面封耐燃一級板 | C70: 5 | D70: 尺 | G70: 8人會議室
A71: =A70+1 -> 11 | B71: 儲藏間木作折門/美耐板 | C71: 2 | D71: 式 | G71: 8人會議室
A72: =A71+1 -> 12 | B72: 木作電視牆/耐燃一級板 | C72: 1 | D72: 式 | G72: 6人會議室
A73: =A72+1 -> 13 | B73: 全室掛畫軌道含掛勾五金 | C73: 16 | D73: 尺
F74: 小計: | G74: =SUM(F59:F74) -> 0
A75: 七 | B75: 油漆工程/環保水泥漆/虹牌或青葉
A76: 1 | B76: 全室暗架平頂天花批土上漆 | C76: 17 | D76: 坪
A78: 2 | B78: 入口形象牆木作燈槽面批土噴漆 | C78: 1 | D78: 式
A79: =A78+1 -> 3 | B79: 入口形象牆木作造型展示櫃面批土噴漆 | C79: 2 | D79: 式
A80: =A79+1 -> 4 | B80: 入口雙開門組面批土刷漆 | C80: 1 | D80: 式
A81: =A80+1 -> 5 | B81: 攝影器材儲藏間木作單開門組面批土刷漆 | C81: 1 | D81: 式
A82: =A81+1 -> 6 | B82: 儲藏間木作拉門組面批土刷漆 | C82: 1 | D82: 式
A83: =A82+1 -> 7 | B83: 全室樓板裸天花含管線設備噴漆 | C83: 12.5 | D83: 坪
A84: =A83+1 -> 8 | B84: 全室木作窗簾盒批土上漆 | C84: 1 | D84: 式 | G84: 參考值：35尺
A85: =A84+1 -> 9 | B85: 新作輕隔間牆面批土上漆/H:360cm | C85: 23 | D85: 坪
A86: =A85+1 -> 10 | B86: 新作輕隔間牆面批土上漆/H:260cm | C86: 57 | D86: 坪
A87: =A86+1 -> 11 | B87: 原有隔間牆面無批土上漆 | C87: 37 | D87: 坪
A88: =A87+1 -> 12 | B88: 全室漆色跳色及防護工資 | C88: 1 | D88: 式
F89: 小計: | G89: =SUM(F75:F89) -> 0
A90: 八 | B90: 金屬工程
A91: 1 | B91: 辦公室金屬隔間框/3.8*11cm | C91: 20 | D91: M | G91: 黑色
A92: =A91+1 -> 2 | B92: 辦公室金屬框門扇含8mm強化清玻/W90*H220 | C92: 4 | D92: 樘 | G92: 黑色
A93: =A92+1 -> 3 | B93: 辦公室金屬框雙開門扇含8mm強化清玻/W120*H220 | C93: 1 | D93: 樘
A94: =A93+1 -> 4 | B94: 入口形象牆金屬收邊條 | C94: 1 | D94: 式
F95: 小計: | G95: =SUM(F90:F95) -> 0
A96: 九 | B96: 玻璃工程/台灣玻璃
A97: 1 | B97: 全室玻璃隔間10mm強化清玻 | C97: 140 | D97: 才
A98: =A97+1 -> 2 | B98: 入口形象展示窗10mm強化清玻 | C98: 47 | D98: 才
A99: =A98+1 -> 3 | B99: 入口形象展示櫃10mm強化清玻層板 | C99: 6 | D99: 式
A100: =A99+1 -> 4 | B100: 會議室玻璃隔間/玻璃門片中段貼玻璃貼紙 | C100: 128 | D100: 才
A101: =A100+1 -> 5 | B101: 全室白板5mm優白烤漆玻璃 | C101: 96 | D101: 才
A102: =A101+1 -> 6 | B102: 玻璃運送及加工安裝費用/全室矽利康工程 | C102: 1 | D102: 式
F103: 小計: | G103: =SUM(F96:F103) -> 0
...

Sheet 1F OA
E1: 主辦單位:
E2: 工程名稱:
E3: 工程地點:
E4: 日期:
B5: 1樓OA家具設備
A6: 項次 | B6: 項目說明 | C6: 數量 | D6: 單位 | E6: 單價 | F6: 金額 | G6: 備註
A7: 6人 會議室
A8: 1 | B8: 會議桌 | C8: W180*D90 | D8: 1 | G8: 桌板:可選色系統板/四角平收 桌腳:雙斜ㄇ桌腳/烤漆白色 單掀三孔線盒:白色 蛇管:白色
A9: 30人 會議室
A10: =A8+1 -> 2 | B10: 摺疊活動會議桌 | C10: W160*D60 | D10: 6 | G10: 桌面:不加價色/四邊平收 鋼製前擋板:烤白色 鋼製置物架 尼龍輪:帶煞車
A11: =A10+1 -> 3 | B11: 會議椅 | C11: W58*D43*H83 | D11: 30 | G11: 椅身：全新聚丙烯加玻璃纖維/承重130KG_x000B_ 掛鉤：承重8KG 可選色:白色/灰色/藍色 含布坐墊 交期:30-45天
F12: 小計: | G12: =SUM(F7:F12) -> 0
F14: 合計: | G14: =SUM(F8:F13) -> 0
F17: 總計: | G17: =SUM(F7:F16) -> 0
B20: 以上報價不含:(1) 5%營業稅

Sheet 2F辦公室
E1: 主辦單位:
E2: 工程名稱:
E3: 工程地點:
E4: 日期:
B5: 2樓室內裝修工程
A6: 項次 | B6: 項目說明 | C6: 數量 | D6: 單位 | E6: 單價 | F6: 金額 | G6: 備註
A7: 一 | B7: 假設工程
A8: 1 | B8: 全室電路斷線整理拆廢及臨時線路設置 | C8: 1 | D8: 式
A9: =A8+1 -> 2 | B9: 全室消防警報線路保護及臨時防護 | C9: 1 | D9: 式
A10: =A9+1 -> 3 | B10: 2樓進出貨動線地壁保護工程 | C10: 1 | D10: 式 | G10: 2分夾板+PP板
F11: 小計: | G11: =SUM(F7:F11) -> 0
A12: 二 | B12: 拆除工程 | G12: 原有燈具保留給業主
A13: 1 | B13: 原有輕鋼架天花含天花設備拆除清運/吊筋切除 | C13: 1 | D13: 式
A14: =A13+1 -> 2 | B14: 原入口金屬玻璃門樘/辦公間金屬門樘拆除清運 | C14: 1 | D14: 式
A15: =A14+1 -> 3 | B15: 原有輕隔間拆除清運 | C15: 1 | D15: 式
A16: =A15+1 -> 4 | B16: 原有OA隔間及門樘拆除清運 | C16: 1 | D16: 式
A17: =A16+1 -> 5 | B17: 原有窗簾拆除清運 | C17: 1 | D17: 式
A18: =A17+1 -> 6 | B18: 原有樓梯踏階局部切除 | C18: 1 | D18: 式
A19: =A18+1 -> 7 | B19: 會議室烤漆玻璃白板拆除 | C19: 1 | D19: 式
A20: =A19+1 -> 8 | B20: 原有空調風管軟管設備出風口拆除清運 | C20: 1 | D20: 式
A21: =A20+1 -> 9 | B21: 上項廢棄物清運車資含搬運 | C21: 1 | D21: 式
F22: 小計: | G22: =SUM(F12:F22) -> 0
A23: 三 | B23: 輕隔間/輕鋼架天花工程(環球牌石膏板/USG礦纖板)
A24: 1 | B24: 全室9cm雙面單層石膏板隔間牆/H:360cm/含補強 | C24: 192 | D24: M2 | G24: 內填60K岩棉
A25: =A24+1 -> 2 | B25: 全室9cm雙面單層石膏板隔間牆/H:240cm | C25: 20 | D25: M2 | G25: 內填12K隔音棉
A26: =A25+1 -> 3 | B26: 全室新設輕鋼架礦纖天花板/12mm | C26: 19 | D26: 坪
F27: 小計: | G27: =SUM(F23:F27) -> 0
A28: 四 | B28: 水電工程/華新麗華/太平洋
A29: 1 | B29: 總配電箱配線迴路整理 | C29: 1 | D29: 式
A30: =A29+1 -> 2 | B30: 天花金屬線槽含配件/吊架含安裝/水電及資訊 | C30: 1 | D30: 式
A31: =A30+1 -> 3 | B31: 天花板PVC電管配管及五金材料固定 | C31: 1 | D31: 式
A32: =A31+1 -> 4 | B32: 全室新設燈具出線 | C32: 1 | D32: 式
A33: =A32+1 -> 5 | B33: 全室燈具單切開關新增迴路配管出線 | C33: 31 | D33: 切
A34: =A33+1 -> 6 | B34: 全室新增燈具電源迴路 | C34: 3 | D34: 迴
A35: =A34+1 -> 7 | B35: 全室插座新增配管出線/辦公桌 | C35: 138 | D35: 口
A36: =A35+1 -> 8 | B36: 全室插座新增配管出線/壁面出線 | C36: 54 | D36: 口
A37: =A36+1 -> 9 | B37: 全室插座新增配管出線/WIFI APP | C37: 3 | D37: 口
A38: =A37+1 -> 10 | B38: 電源新增配管出線/門禁設備/大門自動門機 | C38: 2 | D38: 口
A39: =A38+1 -> 11 | B39: 全室新增UPS插座配管出線 | C39: 8 | D39: 口
A40: =A39+1 -> 12 | B40: 全室新增插座迴路配管出線/110V/220V/專迴 | C40: 26 | D40: 迴
A41: =A40+1 -> 13 | B41: 全室新增UPS插座電源迴路配管出線 | C41: 2 | D41: 迴
... A44: =A43+1 -> 16 | B44: 空調室外機電源插座新增配管出線 | C44: 3 | D44: 口
F45: 小計: | G45: =SUM(F28:F45) -> 0
A46: 五 | B46: 資訊工程/大同 CAT.6 24AWG
A47: 1 | B47: 網6U網路收容箱 | C47: 1 | D47: 式
A48: =A47+1 -> 2 | B48: CAT.6E 超6網路主幹/台製/6U收容箱至梯間機櫃 | C48: 1 | D48: 式
A49: =A48+1 -> 3 | B49: 全室Cat.6網路插座新增配管出線 | C49: 87 | D49: 口
A50: =A49+1 -> 4 | B50: 全室Cat.6網路插座線新增配管出線/天花WIFI AP | C50: 3 | D50: 口
A51: =A50+1 -> 5 | B51: 全室電話4C線插座新增配管出線/華新OR太平洋 | C51: 74 | D51: 口
A52: =A51+1 -> 6 | B52: 全室TV同軸CABLE線新增配管出線 | C52: 7 | D52: 口
A53: =A52+1 -> 7 | B53: 全室光纖新增配管出線/OM4多膜兩端LC接頭 | C53: 7 | D53: 口
A54: =A53+1 -> 8 | B54: 監視器/門禁設備新增配管/配線設備安裝由業主廠商 | C54: 5 | D54: 口
F55: 小計: | G55: =SUM(F46:F55) -> 0
A56: 六 | B56: 木作工程/科技板/美耐板
A57: 1 | B57: 全室暗架平頂天花封矽酸鈣板/6mm台灣麗仕/含天花開孔/出風口/維修口 | C57: 15 | D57: 坪
A58: 2 | B58: 全室木作窗簾盒 | C58: 78 | D58: 尺
A59: =A58+1 -> 3 | B59: 入口木作造型形象牆展示櫃 | C59: 1 | D59: 式
A60: =A59+1 -> 4 | B60: 電話亭掀折桌板含五金安裝 | C60: 1 | D60: 式
A61: =A60+1 -> 5 | B61: 剪輯間纖維吸音板木作底板及燈槽 | C61: 2 | D61: 式
A62: =A61+1 -> 6 | B62: 全室掛畫軌道含掛勾五金 | C62: 13.5 | D62: 尺
A63: =A62+1 -> 7 | B63: 樓梯下方開口木作封板面刷漆 | C63: 1 | D63: 式
A64: =A63+1 -> 8 | B64: 配音室外木作埋軌道盒 | C64: 58.5 | D64: 尺
B65: 系統櫃
A66: =A64+1 -> 9 | B66: 事務設備區高櫃/H:240cm | C66: 3 | D66: 尺
A67: =A66+1 -> 10 | B67: 事務設備區吊櫃/H:90cm | C67: 12.5 | D67: 尺
A68: =A67+1 -> 11 | B68: 輕食茶水區收納高櫃/H:240cm | C68: 4 | D68: 尺
A69: =A68+1 -> 12 | B69: 輕食茶水區收納上下櫃/層板/H:55/90cm | C69: 3.5 | D69: 尺
A70: =A69+1 -> 13 | B70: 開放辦公區收納高櫃/H:240cm | C70: 31.5 | D70: 尺
A71: =A70+1 -> 14 | B71: 開放辦公區小機房門片/附鎖 | C71: 1 | D71: 式
F72: 小計: | G72: =SUM(F56:F72) -> 0
A73: 七 | B73: 油漆工程/環保水泥漆/虹牌或青葉
A74: 1 | B74: 全室暗架平頂天花批土上漆 | C74: 15 | D74: 坪
A75: 2 | B75: 全室樓板裸天花含管線設備噴漆 | C75: 74 | D75: 坪
A76: =A75+1 -> 3 | B76: 全室木作窗簾盒批土上漆 | C76: 1 | D76: 式 | G76: 參考值：78尺
A77: =A76+1 -> 4 | B77: 入口木作造型形象牆展示櫃批土上漆 | C77: 1 | D77: 式
A78: =A77+1 -> 5 | B78: 新作輕隔間牆面批土上漆/H:360cm | C78: 91 | D78: 坪
A79: =A78+1 -> 6 | B79: 新作輕隔間牆面批土上漆/H:240cm | C79: 14 | D79: 坪
A80: =A79+1 -> 7 | B80: 原有隔間牆面無批土上漆 | C80: 45 | D80: 坪
A81: =A80+1 -> 8 | B81: 全室漆色跳色及防護工資 | C81: 1 | D81: 式
F82: 小計: | G82: =SUM(F73:F82) -> 0
A83: 八 | B83: 金屬工程
A84: 1 | B84: 入口固定玻璃金屬口框/含烤漆 | C84: 2 | D84: 式
A85: =A84+1 -> 2 | B85: 入口雙開金屬口框玻璃門/8mm強化清玻/含烤漆 | C85: 2 | D85: 式
A86: =A85+1 -> 3 | B86: 東洋DC-358型紅外線感應自動門機/陽極鎖/貓眼 | C86: 1 | D86: 組
A87: =A86+1 -> 4 | B87: 辦公室金屬隔間框/3.8*11cm | C87: 39 | D87: M | G87: 黑色
A88: =A87+1 -> 5 | B88: 辦公室金屬框門扇含8mm強化清玻/W90*H220 | C88: 5 | D88: 樘 | G88: 黑色
A89: =A88+1 -> 6 | B89: 辦公室金屬框門扇含8mm強化清玻/W75*H220 | C89: 3 | D89: 樘 | G89: 黑色
A90: =A89+1 -> 7 | B90: 全室壁面金屬收邊條 | C90: 1 | D90: 式
A91: =A90+1 -> 8 | B91: 入口佈告欄鍍鋅鋼板203*180cm | C91: 1 | D91: 式
A92: =A91+1 -> 9 | B92: 金屬支架天花吊掛螢幕含噴漆 | C92: 1 | D92: 式
A93: =A92+1 -> 10 | B93: 原有樓梯踏階切除後補強 | C93: 1 | D93: 式
F94: 小計: | G94: =SUM(F83:F94) -> 0
A95: 九 | B95: 玻璃工程/台灣玻璃
A96: 1 | B96: 入口固定玻璃隔間10mm強化灰玻 | C96: 42 | D96: 才
A97: =A96+1 -> 2 | B97: 全室玻璃隔間10mm強化清玻 | C97: 207 | D97: 才
A98: =A97+1 -> 3 | B98: 辦公間玻璃隔間/玻璃門片中段貼玻璃貼紙 | C98: 226 | D98: 才
A99: =A98+1 -> 4 | B99: 全室白板5mm優白烤漆玻璃 | C99: 119 | D99: 才
A100: =A99+1 -> 5 | B100: 玻璃運送及加工安裝費用/全室矽利康工程 | C100: 1 | D100: 式
F101: 小計: | G101: =SUM(F95:F101) -> 0
A102: 十 | B102: 燈具工程
...

Sheet 2F OA
E1: 主辦單位:
E2: 工程名稱:
E3: 工程地點:
E4: 日期:
B5: 2樓OA家具設備
A6: 項次 | B6: 項目說明 | C6: 數量 | D6: 單位 | E6: 單價 | F6: 金額 | G6: 備註
A7: 開放辦公區 節目部/行銷企劃部
A8: 1 | B8: 2人屏風工作站 | C8: W120*D70 | D8: 2 | G8: H102/白框/白平鋼+30布 桌板:美耐板不加價色/雙圓孔/四角平收 走線槽:左右各三孔
A9: =A8+1 -> 2 | B9: 3人屏風工作站 | C9: W120*D70*2/ W140*D70*1 | D9: 1 | G9: H102/白框/白平鋼+30布 桌板:美耐板不加價色/雙圓孔/四角平收 走線槽:左右各三孔
A10: =A9+1 -> 3 | B10: 4人屏風工作站 | C10: W120*D70 | D10: 4 | G10: H102/白框/白平鋼+30布 桌板:美耐板不加價色/雙圓孔/四角平收 走線槽:左右各三孔
A11: =A10+1 -> 4 | B11: 5人屏風工作站 | C11: W120*D70*4/ W140*D70*1 | D11: 2 | G11: H102/白框/白平鋼+30布 桌板:美耐板不加價色/雙圓孔/四角平收 走線槽:左右各三孔
A12: =A11+1 -> 5 | B12: 7人屏風工作站 | C12: W120*D70*6/ W140*D70*1 | D12: 1 | G12: H102/白框/白平鋼+30布 桌板:美耐板不加價色/雙圓孔/四角平收 走線槽:左右各三孔
A13: =A12+1 -> 6 | B13: 9人屏風工作站 | C13: W120*D70*8/ W140*D70*1 | D13: 2 | G13: H102/白框/白平鋼+30布 桌板:美耐板不加價色/雙圓孔/四角平收 走線槽:左右各三孔
A14: =A13+1 -> 7 | B14: 11人屏風工作站 | C14: W120*D70*10/ W140*D70*1 | D14: 1 | G14: H102/白框/白平鋼+30布 桌板:美耐板不加價色/雙圓孔/四角平收 走線槽:左右各三孔
A15: =A14+1 -> 8 | B15: 活動櫃 | C15: W40 | D15: 69 | G15: 訂製烤漆:白色/黑色
A16: =A15+1 -> 9 | B16: 中背辦公椅 | D16: 69 | G16: 全網坐墊/白色 S弧椅背 固定扶手 原位鎖定底盤 升降氣壓
A17: 剪輯工作站*5
A18: =A16+1 -> 10 | B18: 工作桌 | C18: W140*D70 | D18: 3 | G18: 桌板:美耐板不加價色/雙圓孔/四角平收 桌腳:鋼製烤漆
A19: =A18+1 -> 11 | B19: 工作桌 | C19: W240*D70 | D19: 1 | G19: 桌板:美耐板不加價色/雙圓孔/四角平收 桌腳:鋼製烤漆
A20: 剪輯間*2
A21: =A19+1 -> 12 | B21: 工作桌 | C21: W160*70 | D21: 2 | G21: 桌板:美耐板不加價色/雙圓孔/四角平收 桌腳:鋼製烤漆
A22: 台長室
A23: =A21+1 -> 13 | B23: 會議桌 | C23: W200*D100 | D23: 1 | G23: 桌板:可選色系統板/四角平收 桌腳:雙斜ㄇ桌腳/烤漆白色 單掀三孔線盒:同桌板色蓋板 蛇管:白色
A24: =A23+1 -> 14 | B24: 會議椅 | C24: W58*D43*H83 | D24: 6 | G24: 椅身：全新聚丙烯加玻璃纖維/承重130KG_x000B_ 掛鉤：承重8KG 可選色:白色/灰色/藍色 含布坐墊 交期:30-45天
A25: 輕食茶水區
F28: 小計: | G28: =SUM(F8:F28) -> 0
F30: 合計: | G30: =SUM(F7:F29) -> 0
F34: 總計: | G34: =SUM(F7:F33) -> 0
B38: 以上報價不含:(1) 5%營業稅

Sheet 3F辦公室 
E1: 主辦單位:
E2: 工程名稱:
E3: 工程地點:
E4: 日期:
B5: 3樓室內裝修工程
A6: 項次 | B6: 項目說明 | C6: 數量 | D6: 單位 | E6: 單價 | F6: 金額 | G6: 備註
A7: 一 | B7: 假設工程
A8: 1 | B8: 3樓進出貨動線地壁保護工程 | C8: 1 | D8: 式 | G8: 2分夾板+PP板
F9: 小計: | G9: =SUM(F7:F9) -> 0
A10: 二 | B10: 拆除工程
A11: 1 | B11: 原入口金屬玻璃門樘/空調設備拆除清運 | C11: 1 | D11: 式
F12: 小計: | G12: =SUM(F10:F12) -> 0
A13: 三 | B13: 輕隔間/輕鋼架天花工程(環球牌石膏板/USG礦纖板)
A14: 1 | B14: 全室9cm雙面單層石膏板隔間牆/H:360cm/含補強 | C14: 307 | D14: M2 | G14: 內填60K岩棉
A15: =A14+1 -> 2 | B15: 全室9cm雙面單層石膏板隔間牆/H:240cm | C15: 37 | D15: M2 | G15: 內填12K隔音棉
A16: =A15+1 -> 3 | B16: 全室新設輕鋼架礦纖天花板/12mm | C16: 32 | D16: 坪
F17: 小計: | G17: =SUM(F13:F17) -> 0
A18: 四 | B18: 水電工程/華新麗華/太平洋
A19: 1 | B19: 總配電箱配線迴路整理 | C19: 1 | D19: 式
A20: =A19+1 -> 2 | B20: 天花金屬線槽含配件/吊架含安裝/水電及資訊 | C20: 1 | D20: 式
A21: =A20+1 -> 3 | B21: 天花板PVC電管配管及五金材料固定 | C21: 1 | D21: 式
A22: =A21+1 -> 4 | B22: 全室新設燈具出線 | C22: 1 | D22: 式
A23: =A22+1 -> 5 | B23: 全室燈具單切開關新增迴路配管出線 | C23: 45 | D23: 切
A24: =A23+1 -> 6 | B24: 全室新增燈具電源迴路 | C24: 3 | D24: 迴
A25: =A24+1 -> 7 | B25: 全室插座新增配管出線/辦公桌 | C25: 99 | D25: 口
A26: =A25+1 -> 8 | B26: 全室插座新增配管出線/壁面出線 | C26: 57 | D26: 口
A27: =A26+1 -> 9 | B27: 全室插座新增配管出線/天花出線/WIFI APP | C27: 3 | D27: 口
A29: 10 | B29: 全室UPS不斷電插座新增配管出線 | C29: 27 | D29: 口
A30: =A29+1 -> 11 | B30: 全室新增插座迴路配管出線/110V/220V/專迴 | C30: 23 | D30: 迴
A31: =A30+1 -> 12 | B31: 全室新增UPS插座迴路配管出線 | C31: 4 | D31: 迴
A32: =A31+1 -> 13 | B32: 全室局部地板打鑿及水泥抹平固定 | C32: 1 | D32: 式
A33: =A32+1 -> 14 | B33: 梯間壁面鑽孔洗洞 | C33: 1 | D33: 式
A34: =A33+1 -> 15 | B34: 空調室外機電源插座新增配管出線 | C34: 3 | D34: 口
F35: 小計: | G35: =SUM(F18:F35) -> 0
A36: 五 | B36: 資訊工程/大同 CAT.6 24AWG
A37: 1 | B37: 網6U網路收容箱 | C37: 1 | D37: 式
A38: =A37+1 -> 2 | B38: CAT.6E 超6網路主幹/台製/6U收容箱至梯間機櫃 | C38: 1 | D38: 式
A39: =A38+1 -> 3 | B39: 全室Cat.6網路插座新增配管出線 | C39: 82 | D39: 口
A40: =A39+1 -> 4 | B40: 全室Cat.6網路插座線新增配管出線/天花WIFI AP | C40: 3 | D40: 口
A41: =A40+1 -> 5 | B41: 全室電話4C線插座新增配管出線/華新OR太平洋 | C41: 63 | D41: 口
A42: =A41+1 -> 6 | B42: 全室光纖新增配管出線/OM4多膜兩端LC接頭 | C42: 9 | D42: 口
A43: =A42+1 -> 7 | B43: 監視器/門禁設備新增配管/配線設備安裝由業主廠商 | C43: 6 | D43: 口
F44: 小計: | G44: =SUM(F37:F43) -> 0
A45: 六 | B45: 木作工程/科技板/美耐板
A46: 1 | B46: 全室暗架平頂天花封矽酸鈣板/6mm台灣麗仕/含天花開孔/出風口/維修口 | C46: 9 | D46: 坪
A47: =A46+1 -> 2 | B47: 入口木作造型飄板封矽酸鈣板/6mm台灣麗仕 | C47: 45 | D47: 尺
A48: 3 | B48: 全室木作窗簾盒 | C48: 98 | D48: 尺
A49: =A48+1 -> 4 | B49: 配音室外木作埋軌道盒 | C49: 46 | D49: 尺
A50: =A49+1 -> 5 | B50: 入口木作造型形象牆展示櫃 | C50: 1 | D50: 式
A51: =A50+1 -> 6 | B51: 儲藏間木作層板/科技木皮 | C51: 1 | D51: 式
A52: =A51+1 -> 7 | B52: 輕食茶水區木作窗邊吧檯桌/科技木皮 | C52: 11 | D52: 尺
A53: 8 | B53: 配音間/剪輯間 纖維吸音板木作底板及燈槽 | C53: 6 | D53: 式
A54: =A53+1 -> 9 | B54: 全室掛畫軌道含掛勾五金 | C54: 23.5 | D54: 尺
B55: 系統櫃
A56: =A54+1 -> 10 | B56: 攝影器材收納高櫃/H:240cm | C56: 22 | D56: 尺
A57: =A56+1 -> 11 | B57: 攝影器材收納格櫃/H:240cm | C57: 4 | D57: 尺
A58: =A57+1 -> 12 | B58: 輕食茶水區收納吊櫃/H:90cm | C58: 10 | D58: 尺
A59: =A58+1 -> 13 | B59: 輕食茶水區收納矮櫃/H:90cm | C59: 5 | D59: 尺
A60: =A59+1 -> 14 | B60: 開放辦公區收納高櫃/H:240cm | C60: 18 | D60: 尺
F61: 小計: | G61: =SUM(F45:F60) -> 0
A62: 七 | B62: 油漆工程/環保水泥漆/虹牌或青葉
A63: 1 | B63: 全室暗架平頂天花批土上漆 | C63: 9 | D63: 坪
A64: =A63+1 -> 2 | B64: 入口木作造型飄板批土上漆 | C64: 1 | D64: 式
A66: 3 | B66: 全室樓板裸天花含管線設備噴漆 | C66: 78 | D66: 坪
A67: =A66+1 -> 4 | B67: 全室木作窗簾盒批土上漆 | C67: 1 | D67: 式 | G67: 參考值：98尺
A68: =A67+1 -> 5 | B68: 入口木作造型形象牆展示櫃批土上漆 | C68: 1 | D68: 式
A69: =A68+1 -> 6 | B69: 新作輕隔間牆面批土上漆/H:360cm | C69: 27 | D69: 坪
A70: =A69+1 -> 7 | B70: 新作輕隔間牆面批土上漆/H:240cm | C70: 142 | D70: 坪
A71: =A70+1 -> 8 | B71: 原有隔間牆面無批土上漆 | C71: 45 | D71: 坪
A72: =A71+1 -> 9 | B72: 全室漆色跳色及防護工資 | C72: 1 | D72: 式
F73: 小計: | G73: =SUM(F62:F73) -> 0
A74: 八 | B74: 金屬工程
A75: 1 | B75: 入口固定玻璃金屬口框/含烤漆 | C75: 2 | D75: 式
A76: =A75+1 -> 2 | B76: 入口雙開金屬口框玻璃門/8mm強化清玻/含烤漆 | C76: 2 | D76: 式
A77: =A76+1 -> 3 | B77: 東洋DC-358型紅外線感應自動門機/陽極鎖/貓眼 | C77: 1 | D77: 組
A78: =A77+1 -> 4 | B78: 辦公室金屬隔間框/3.8*11cm | C78: 16.5 | D78: M | G78: 黑色
A79: =A78+1 -> 5 | B79: 辦公室金屬框門扇含8mm強化清玻/W90*H220 | C79: 4 | D79: 樘 | G79: 黑色
A80: =A79+1 -> 6 | B80: 辦公室金屬框門扇含8mm強化清玻/W75*H220 | C80: 14 | D80: 樘 | G80: 黑色
A81: =A80+1 -> 7 | B81: 儲藏間金屬框拉門組/含五金把手緩衝滑軌/5mm強化清玻/W75*H220 | C81: 1 | D81: 樘
A82: =A81+1 -> 8 | B82: 全室壁面金屬收邊條 | C82: 1 | D82: 式
A83: =A82+1 -> 9 | B83: 錄音間外佈告欄*2金屬框拉門含五金緩衝滑軌/底板鍍鋅鋼板 | C83: 2 | D83: 式
A84: =A83+1 -> 10 | B84: 行銷製作組鍍鋅鋼板90*105cm | C84: 1 | D84: 式
A85: =A84+1 -> 11 | B85: 金屬支架天花吊掛螢幕含噴漆 | C85: 1 | D85: 式
A86: =A85+1 -> 12 | B86: 陽台落地窗含門樘/8mm綠半反射/10cm鋁框/W917*H290cm | C86: 1 | D86: 式
F87: 小計: | G87: =SUM(F74:F87) -> 0
A88: 九 | B88: 玻璃工程/台灣玻璃
A89: 1 | B89: 入口固定玻璃隔間10mm強化灰玻 | C89: 42 | D89: 才
A90: =A89+1 -> 2 | B90: 全室玻璃隔間10mm強化清玻 | C90: 93 | D90: 才
A91: =A90+1 -> 3 | B91: 辦公間玻璃隔間/玻璃門片中段貼玻璃貼紙 | C91: 342 | D91: 才
A92: =A91+1 -> 4 | B92: 全室白板5mm優白烤漆玻璃 | C92: 155 | D92: 才
A93: =A92+1 -> 5 | B93: 玻璃運送及加工安裝費用/全室矽利康工程 | C93: 1 | D93: 式
F94: 小計: | G94: =SUM(F88:F94) -> 0
A95: 十 | B95: 燈具工程
A96: 1 | B96: 全室LED投射嵌燈 | C96: 12 | D96: 盞
A97: =A96+1 -> 2 | B97: 全室LED大嵌燈 | C97: 29 | D97: 盞
A98: =A97+1 -> 3 | B98: 全室LED平板燈 | C98: 15 | D98: 組
A99: =A98+1 -> 4 | B99: 全室吊掛式軌道設置含安裝 | C99: 68 | D99: M
A100: =A99+1 -> 5 | B100: 全室LED軌道投射燈 | C100: 56 | D100: 盞
A101: =A100+1 -> 6 | B101: 全室LED鋁殼條燈/含變壓器 | C101: 1 | D101: 式
A102: =A101+1 -> 7 | B102: 開放辦公區LED金屬線型吊燈/含變壓器 | C102: 1 | D102: 式
...

Sheet 3F OA
E1: 主辦單位:
E2: 工程名稱:
E3: 工程地點:
E4: 日期:
B5: 3樓OA家具設備
A6: 項次 | B6: 項目說明 | C6: 數量 | D6: 單位 | E6: 單價 | F6: 金額 | G6: 備註
A7: 開放辦公區 新聞部
A8: 1 | B8: 6人屏風工作站 | C8: W120*D70*6 | D8: 3 | G8: H102/白框/白平鋼+30布 桌板:美耐板不加價色/雙圓孔/四角平收 走線槽:左右各三孔
A9: =A8+1 -> 2 | B9: 6人屏風工作站 | C9: W120*D70*2/ W140*D70*4 | D9: 1 | G9: H102/白框/白平鋼+30布 桌板:美耐板不加價色/雙圓孔/四角平收 走線槽:左右各三孔
A10: =A9+1 -> 3 | B10: 7人屏風工作站 | C10: W120*D70*6/ W140*D70*1 | D10: 3 | G10: H102/白框/白平鋼+30布 桌板:美耐板不加價色/雙圓孔/四角平收 走線槽:左右各三孔
A11: =A10+1 -> 4 | B11: 8人屏風工作站 | C11: W120*D70*6/ W140*D70*2 | D11: 1 | G11: H102/白框/白平鋼+30布 桌板:美耐板不加價色/雙圓孔/四角平收 走線槽:左右各三孔
A12: =A11+1 -> 5 | B12: 活動櫃 | D12: 53 | G12: 訂製烤漆:白色/黑色
A13: =A12+1 -> 6 | B13: 中背辦公椅 | D13: 53 | G13: 全網坐墊/白色 S弧椅背 固定扶手 原位鎖定底盤 升降氣壓
A14: 行銷製作組 辦公室
A15: =A13+1 -> 7 | B15: 兩節式雙電機升降桌 | C15: W140*D70 | D15: 9 | G15: 桌板:不加價色美耐板/雙圓孔 桌架顏色:黑色/白色 五年保固/承重120公斤 升降範圍 71~121公分(含桌板厚2.5公分) 四組記憶功能 遇阻回退安全保護
A16: =A15+1 -> 8 | B16: 2.5屏風含走線槽 | C16: W140*L70*H142 | D16: 9 | G16: 白框/72白平鋼+30布+40白平鋼
A17: =A16+1 -> 9 | B17: 中背辦公椅 | D17: 9 | G17: 全網坐墊/白色 S弧椅背 固定扶手 原位鎖定底盤 升降氣壓
A18: 8人 會議室
A19: =A17+1 -> 10 | B19: 會議桌 | C19: W240*D100 | D19: 1 | G19: 桌板:可選色系統板/四角平收 桌腳:造型桌腳/烤漆白色 單掀三孔線盒:同桌板色蓋板 蛇管:白色
A20: =A19+1 -> 11 | B20: 會議椅 | C20: W58*D43*H83 | D20: 8 | G20: 椅身：全新聚丙烯加玻璃纖維/承重130KG_x000B_ 掛鉤：承重8KG 可選色:白色/灰色/藍色 含布坐墊 交期:30-45天
A21: 配音室*10 / 剪輯間*3 / NIC
A22: =A20+1 -> 12 | B22: 工作桌 | C22: W120*D70 | D22: 6 | G22: 桌板:美耐板不加價色/雙園孔/四角平收 桌腳:鋼製烤漆
A23: =A22+1 -> 13 | B23: 工作桌 | C23: W140*D70 | D23: 1 | G23: 桌板:美耐板不加價色/雙園孔/四角平收 桌腳:鋼製烤漆
A24: =A23+1 -> 14 | B24: 工作桌 | C24: W160*D70 | D24: 3 | G24: 桌板:美耐板不加價色/雙園孔/四角平收 桌腳:鋼製烤漆
A25: =A24+1 -> 15 | B25: 工作桌 | C25: W180*D70 | D25: 3 | G25: 桌板:美耐板不加價色/雙園孔/四角平收 桌腳:鋼製烤漆
A26: =A25+1 -> 16 | B26: 工作桌 | C26: W240*D70 | D26: 1 | G26: 桌板:美耐板不加價色/雙園孔/四角平收 桌腳:鋼製烤漆
A27: 茶水區
F29: 小計: | G29: =SUM(F7:F29) -> 0
F31: 合計: | G31: =SUM(F7:F30) -> 0
F35: 總計: | G35: =SUM(F7:F34) -> 0
B39: 以上報價不含:(1) 5%營業稅

Sheet 空調
E1: 主辦單位:
E2: 工程名稱:
E3: 工程地點:
E4: 日期:
B5: 空調工程
A6: 項次 | B6: 項目說明 | C6: 數量 | D6: 單位 | E6: 單價 | F6: 金額 | G6: 備註
A8: 風管系統
A9: 一 | B9: 1樓風管系統
A10: 1 | B10: ABS擴散出風口 / 60*60cm | C10: 8 | D10: 組
A11: =A10+1 -> 2 | B11: 花板回風口 | C11: 8 | D11: 組
A12: =A11+1 -> 3 | B12: ABS線型出風口 / 10*100cm | C12: 8 | D12: 組
A13: =A12+1 -> 4 | B13: 線型出風風箱下吹 | C13: 6 | D13: 式
A15: 5 | B15: 儲藏間既設出風口廢掉遮擋補板 | C15: 1 | D15: 式
A16: =A15+1 -> 6 | B16: 全室送風保溫軟管 | C16: 1 | D16: 式 | G16: 參考值：75M
A17: =A16+1 -> 7 | B17: 1/2/3樓風管系統測試及調整(不含TAB.CX簽證費用) | C17: 1 | D17: 式
A18: =A17+1 -> 8 | B18: 1/2/3樓風管系統五金另料及運雜費 | C18: 1 | D18: 式
F19: 小計: | G19: =SUM(F9:F19) -> 0
A20: 二 | B20: 2樓風管系統 (出/回風消音箱沿用既有不拆除) | G20: 梯廳廁所段暫不變更
A21: 1 | B21: 鍍鋅回風管 170*50cm 製作工料 | C21: 10 | D21: M
A22: =A21+1 -> 2 | B22: 鍍鋅回風管 安裝工資 | C22: 1 | D22: 式
A23: =A22+1 -> 3 | B23: ABS回風百葉 200*50cm 安裝工料 | C23: 1 | D23: 式
A24: =A23+1 -> 4 | B24: 鍍鋅出風管含PE保溫 150*30cm 製作工料 | C24: 4 | D24: M
A25: =A24+1 -> 5 | B25: 鍍鋅出風管含PE保溫 120*30cm 製作工料 | C25: 10 | D25: M
A26: =A25+1 -> 6 | B26: 鍍鋅出風管含PE保溫 90*30cm 製作工料 | C26: 15 | D26: M
A27: =A26+1 -> 7 | B27: 鍍鋅出風管含PE保溫 70*30cm 製作工料 | C27: 18 | D27: M
A28: =A27+1 -> 8 | B28: 鍍鋅出風管含PE保溫 30*30cm 製作工料 | C28: 5 | D28: M
A29: =A28+1 -> 9 | B29: 出風管 安裝工資 | C29: 1 | D29: 式
A30: =A29+1 -> 10 | B30: ABS出風百葉 30*25cm 安裝工料(含VD) | C30: 19 | D30: 組
A31: =A30+1 -> 11 | B31: ABS擴散出風口 / 60*60cm | C31: 9 | D31: 組
A32: =A31+1 -> 12 | B32: 花板回風口 | C32: 3 | D32: 組
A33: =A32+1 -> 13 | B33: ABS線型出風口 / 10*100cm | C33: 3 | D33: 組
A34: =A33+1 -> 14 | B34: 線型出風風箱下吹 | C34: 3 | D34: 式
A35: =A34+1 -> 15 | B35: 全室送風保溫軟管 | C35: 1 | D35: 式 | G35: 參考值：70M
A36: =A35+1 -> 16 | B36: VAVBOX (2000CFM) | C36: 3 | D36: 組 | G36: 建煜.峰緯.順光或同等品
A37: =A36+1 -> 17 | B37: VAVBOX (1600CFM) | C37: 1 | D37: 組 | G37: 建煜.峰緯.順光或同等品
A38: =A37+1 -> 18 | B38: VAVBOX ( 800CFM) | C38: 1 | D38: 組 | G38: 建煜.峰緯.順光或同等品
A39: =A38+1 -> 19 | B39: VAVBOX 安裝工料 | C39: 5 | D39: 組
A40: =A39+1 -> 20 | B40: 既設出回風管/VAV設備/管線拆除 | C40: 1 | D40: 式
A41: =A40+1 -> 21 | B41: 上項廢棄物清運車資含搬運 | C41: 2 | D41: 車
F42: 小計: | G42: =SUM(F20:F42) -> 0
A43: 三 | B43: 3樓風管系統
A44: 1 | B44: 鍍鋅回風管 170*50cm 製作工料 | C44: 10 | D44: M
A45: =A44+1 -> 2 | B45: 鍍鋅回風管 安裝工資 | C45: 1 | D45: 式
A46: =A45+1 -> 3 | B46: ABS回風百葉200*50cm 安裝工料 | C46: 1 | D46: 式
A47: =A46+1 -> 4 | B47: 回風消音箱 170*50cm 安裝工料 | C47: 1 | D47: 式
A48: =A47+1 -> 5 | B48: 鍍鋅出風管含PE保溫 150*30cm 製作工料 | C48: 4 | D48: M
A49: =A48+1 -> 6 | B49: 鍍鋅出風管含PE保溫 120*30cm 製作工料 | C49: 10 | D49: M
A50: =A49+1 -> 7 | B50: 鍍鋅出風管含PE保溫 90*30cm 製作工料 | C50: 15 | D50: M
A51: =A50+1 -> 8 | B51: 鍍鋅出風管含PE保溫 70*30cm 製作工料 | C51: 18 | D51: M
A52: =A51+1 -> 9 | B52: 鍍鋅出風管含PE保溫 60*30cm 製作工料 | C52: 15 | D52: M
A53: =A52+1 -> 10 | B53: 鍍鋅出風管含PE保溫 25*20cm 製作工料 | C53: 5 | D53: M
A54: =A53+1 -> 11 | B54: 出風管 安裝工資 | C54: 1 | D54: 式
A55: =A54+1 -> 12 | B55: ABS出風百葉 30*25cm 安裝工料(含VD) | C55: 13 | D55: 組
A56: =A55+1 -> 13 | B56: 出風消音箱 150*30cm 安裝工料 | C56: 1 | D56: 式
... A60: =A59+1 -> 17 | B60: 線型出風風箱下吹 | C60: 5 | D60: 式
A61: =A60+1 -> 18 | B61: 全室送風保溫軟管 | C61: 1 | D61: 式 | G61: 參考值：90M
A62: =A61+1 -> 19 | B62: VAVBOX (2000CFM) | C62: 4 | D62: 組 | G62: 建煜.峰緯.順光或同等品
A63: =A62+1 -> 20 | B63: VAVBOX (1600CFM) | C63: 1 | D63: 組 | G63: 建煜.峰緯.順光或同等品
A64: =A63+1 -> 21 | B64: VAVBOX 安裝工料 | C64: 5 | D64: 組
A65: =A64+1 -> 22 | B65: 防火風門(F.D) /梯廳 | C65: 1 | D65: 式
F66: 小計: | G66: =SUM(F43:F66) -> 0
A67: 空調系統 1Ø.220V.60HZ
A68: 四 | B68: 2樓空調系統
B69: VRV系統增設工程/日立/1Ø.220V.60HZ | G69: VRV不回中控
A71: =A70+1 -> 1 | B71: 埋入型室內外機組/RAC-40NP/RAD-40NJP1 冷(暖)氣能力：4.1(4.5) kW | C71: 1 | D71: 組
A72: =A71+1 -> 2 | B72: 有線遙控器 RC-A04ET | C72: 1 | D72: 組
A73: 3 | B73: 室外機SUS落地架 | C73: 1 | D73: 台
A74: =A73+1 -> 4 | B74: 室外機安裝定位 (含橡膠避震墊) | C74: 1 | D74: 台
A75: =A74+1 -> 5 | B75: 室外機電源接續 | C75: 1 | D75: 台
A76: =A75+1 -> 6 | B76: 室外機排水接續/PVC | C76: 1 | D76: 台
A77: =A76+1 -> 7 | B77: 室內機安裝定位 | C77: 1 | D77: 台
A78: =A77+1 -> 8 | B78: 冷媒配管工程(含吊支架) | C78: 1 | D78: 式
A79: 9 | B79: 室內機控制線路配線及電源結線 | C79: 1 | D79: 台
A80: =A79+1 -> 10 | B80: 室內機排水及保溫(銜接回既設幹管)/PVC | C80: 1 | D80: 台
A81: =A80+1 -> 11 | B81: 管路抽真空及冷媒充填 | C81: 1 | D81: 式
A82: 12 | B82: 2樓空調系統五金另料及運雜費 | C82: 1 | D82: 式
F83: 小計: | G83: =SUM(F67:F83) -> 0
A84: 五 | B84: 3樓空調系統
B85: 空調箱系統汰換及復原
A86: 1 | B86: 既設空調機房內空調箱/風管系統拆除 | C86: 1 | D86: 式
A87: =A86+1 -> 2 | B87: 上項廢棄物清運車資含搬運 | C87: 1.5 | D87: 車
A88: =A87+1 -> 3 | B88: 空調箱AH-32 15HP 8690CFM / 3Ø.380V.60HZ | C88: 1 | D88: 台 | G88: 弘旭.勝新.艾爾特或同等品/無暖氣功能
A89: =A88+1 -> 4 | B89: 設空調箱吊運及定位(含拆解組立) | C89: 1 | D89: 式
A90: =A89+1 -> 5 | B90: 新設空調箱配管連結(鍍鋅鐵管) | C90: 1 | D90: 式
A91: =A90+1 -> 6 | B91: 新設空調箱電源及控制復原作業 | C91: 1 | D91: 式 | G91: 電盤不做更換
A92: =A91+1 -> 7 | B92: 系統洩補水及排氣.測試 | C92: 1 | D92: 式
A93: =A92+1 -> 8 | B93: 機房內新設風管銜接 | C93: 1 | D93: 式
B94: VRV系統增設工程/日立 | G94: VRV不回中控
A95: 9 | B95: 埋入型室內外機組/RAC-40NP/RAD-40NJP1 冷(暖)氣能力：4.1(4.5) kW | C95: 1 | D95: 組
A96: =A95+1 -> 10 | B96: 有線遙控器 RC-A04ET | C96: 1 | D96: 組
A97: 11 | B97: 室外機SUS落地架 | C97: 3 | D97: 台
A98: =A97+1 -> 12 | B98: 室外機安裝定位 (含橡膠避震墊) | C98: 3 | D98: 台
A99: =A98+1 -> 13 | B99: 室外機電源接續 | C99: 3 | D99: 台
A100: =A99+1 -> 14 | B100: 室外機排水接續/PVC | C100: 3 | D100: 台
A101: =A100+1 -> 15 | B101: 室內機安裝定位 | C101: 3 | D101: 台
A102: =A101+1 -> 16 | B102: 冷媒配管工程(含吊支架) | C102: 1 | D102: 式
A103: 17 | B103: 室內機控制線路配線及電源結線 | C103: 3 | D103: 台
A104: =A103+1 -> 18 | B104: 室內機排水及保溫(銜接回既設幹管)/PVC | C104: 3 | D104: 台
A105: =A104+1 -> 19 | B105: 管路抽真空及冷媒充填 | C105: 1 | D105: 式
A106: =A105+1 -> 20 | B106: 既有分離式保養工程 | C106: 2 | D106: 組
...

Sheet 消防
E1: 主辦單位:
E2: 工程名稱:
E3: 工程地點:
E4: 日期:
B5: 1/2/3樓消防工程
A6: 項次 | B6: 項目說明 | C6: 數量 | D6: 單位 | E6: 單價 | F6: 金額 | G6: 備註
A7: 一 | B7: 1樓消防工程
B8: 消防設備
A9: 1 | B9: 定址式R型探測器 | C9: 13 | D9: 只 | G9: 限國產品牌
A10: =A9+1 -> 2 | B10: LED緊急照明燈 | C10: 8 | D10: 只
A11: =A10+1 -> 3 | B11: LED安全出口燈 | C11: 4 | D11: 只
A12: =A11+1 -> 4 | B12: LED避難方向指示燈 | C12: 1 | D12: 只
A13: =A12+1 -> 5 | B13: 3W揚聲器 | C13: 2 | D13: 只
A14: =A13+1 -> 6 | B14: 10型滅火器ABC及放置箱 | C14: 2 | D14: 組
A15: =A14+1 -> 7 | B15: 新設消防栓箱 | C15: 1 | D15: 式
B16: 管線配置及設備安裝
A17: =A15+1 -> 8 | B17: 探測器配管線及安裝工程 | C17: 13 | D17: 式
A18: =A17+1 -> 9 | B18: 燈具配電源管線及安裝工程 | C18: 13 | D18: 式
A19: =A18+1 -> 10 | B19: 揚聲器配管線及安裝工程 | C19: 2 | D19: 式
A20: =A19+1 -> 11 | B20: 消防栓箱管線配置工程 | C20: 1 | D20: 式
A21: =A20+1 -> 12 | B21: 系統測試整合及測試 | C21: 1 | D21: 式
F22: 小計: | G22: =SUM(F7:F22) -> 0
A23: 二 | B23: 2樓消防工程
B24: 消防設備
A25: 1 | B25: 定址式R型探測器 | C25: 24 | D25: 只 | G25: 限國產品牌
A26: =A25+1 -> 2 | B26: LED緊急照明燈 | C26: 14 | D26: 只
A27: =A26+1 -> 3 | B27: LED安全出口燈 | C27: 1 | D27: 只
A28: =A27+1 -> 4 | B28: LED避難方向指示燈 | C28: 6 | D28: 只
A29: =A28+1 -> 5 | B29: 3W揚聲器 | C29: 5 | D29: 只
A30: =A29+1 -> 6 | B30: 10型滅火器ABC及放置箱 | C30: 4 | D30: 組
A31: =A30+1 -> 7 | B31: LED避難器具燈 | C31: 2 | D31: 只
B32: 管線配置及設備安裝
A33: =A31+1 -> 8 | B33: 探測器配管線及安裝工程 | C33: 24 | D33: 式
A34: =A33+1 -> 9 | B34: 燈具配電源管線及安裝工程 | C34: 23 | D34: 式
A35: =A34+1 -> 10 | B35: 揚聲器配管線及安裝工程 | C35: 5 | D35: 式
A36: =A35+1 -> 11 | B36: 消防系統測試整合及測試 | C36: 1 | D36: 式
F38: 小計: | G38: =SUM(F23:F38) -> 0
A39: 三 | B39: 3樓消防工程
B40: 消防設備
A41: 1 | B41: 定址式R型探測器 | C41: 33 | D41: 只 | G41: 限國產品牌
A42: =A41+1 -> 2 | B42: LED緊急照明燈 | C42: 28 | D42: 只
A43: =A42+1 -> 3 | B43: LED安全出口燈 | C43: 1 | D43: 只
A44: =A43+1 -> 4 | B44: LED避難方向指示燈 | C44: 8 | D44: 只
A45: =A44+1 -> 5 | B45: 3W揚聲器 | C45: 5 | D45: 只
A46: =A45+1 -> 6 | B46: 10型滅火器ABC及放置箱 | C46: 4 | D46: 組
A47: =A46+1 -> 7 | B47: LED避難器具燈 | C47: 1 | D47: 只
B48: 管線配置及設備安裝
A49: =A47+1 -> 8 | B49: 探測器配管線及安裝工程 | C49: 33 | D49: 式
A50: =A49+1 -> 9 | B50: 燈具配電源管線及安裝工程 | C50: 38 | D50: 式
A51: =A50+1 -> 10 | B51: 揚聲器配管線及安裝工程 | C51: 5 | D51: 式
A52: =A51+1 -> 11 | B52: 消防系統測試整合及測試 | C52: 1 | D52: 式
F55: 小計: | G55: =SUM(F39:F55) -> 0
A56: 四 | B56: 1/2/3樓 廁所/梯廳/走道消防工程
B57: 消防設備
A58: 1 | B58: 定址式R型探測器 | C58: 27 | D58: 只 | G58: 限國產品牌
A59: =A58+1 -> 2 | B59: LED緊急照明燈 | C59: 12 | D59: 只
A60: =A59+1 -> 3 | B60: LED安全出口燈 | C60: 8 | D60: 只
A61: =A60+1 -> 4 | B61: 3W揚聲器 | C61: 6 | D61: 只
A62: =A61+1 -> 5 | B62: 10型滅火器ABC及放置箱 | C62: 14 | D62: 組
B63: 管線配置及設備安裝
A64: =A62+1 -> 6 | B64: 探測器配管線及安裝工程 | C64: 27 | D64: 式
A65: =A64+1 -> 7 | B65: 燈具配電源管線及安裝工程 | C65: 20 | D65: 式
A66: =A65+1 -> 8 | B66: 揚聲器配管線及安裝工程 | C66: 6 | D66: 式
F67: 小計: | G67: =SUM(F56:F67) -> 0
F68: 合計: | G68: =SUM(F7:F68) -> 0
F70: 總計: | G70: =SUM(F7:F68) -> 0
B73: 以上報價不含:(1) 5%營業稅

Sheet 公區
E1: 主辦單位:
E2: 工程名稱:
E3: 工程地點:
E4: 日期:
B5: 公區室內裝修工程
A6: 項次 | B6: 項目說明 | C6: 數量 | D6: 單位 | E6: 單價 | F6: 金額 | G6: 備註
A7: 一 | B7: 拆除工程
A9: =A8+1 -> 1 | B9: 3樓廁所設備地面局部保護 | C9: 1 | D9: 式
A10: =A9+1 -> 2 | B10: 3樓梯廳/樓梯間/走道/廁所天花及設備拆除 | C10: 1 | D10: 式
A11: =A10+1 -> 3 | B11: 上項廢棄物清運車資含搬運 | C11: 1.5 | D11: 車
F12: 小計: | G12: =SUM(F7:F12) -> 0
A13: 二 | B13: 水電工程
A15: =A14+1 -> 1 | B15: 3樓廁所新增迴路配管出線 | C15: 1 | D15: 迴
A16: =A15+1 -> 2 | B16: 3樓廁所新設燈具配管出線 | C16: 15 | D16: 式
A17: =A16+1 -> 3 | B17: 3樓廁所燈具開關新增配管出線 | C17: 3 | D17: 只
A18: =A17+1 -> 4 | B18: 3樓廁所排風工程新增面板 | C18: 3 | D18: 式 | G18: 原有排風管不動
A19: =A18+1 -> 5 | B19: 3樓梯廳/走道新設燈具/原有強波器配管出線 | C19: 13 | D19: 只
G20: =SUM(F13:F20) -> 0
F21: 小計: | G21: =SUM(F21:F21) -> 0
A22: 三 | B22: 木作工程
A24: =A23+1 -> 1 | B24: 3樓女廁暗架平頂天花封矽酸鈣板/6mm台灣麗仕/含天花開孔/出風口/維修口 | C24: 2 | D24: 坪
A25: 2 | B25: 3樓男廁暗架平頂天花封矽酸鈣板/6mm台灣麗仕/含天花開孔/出風口/維修口 | C25: 3 | D25: 坪
A26: 3 | B26: 3樓無障礙廁所暗架平頂天花封矽酸鈣板/6mm台灣麗仕/含天花開孔/出風口/維修口 | C26: 1 | D26: 坪
A27: =A26+1 -> 4 | B27: 3樓梯廳/走道暗架平頂天花封矽酸鈣板/6mm台灣麗仕/含天花開孔/出風口/維修口 | C27: 7 | D27: 坪
F28: 小計: | G28: =SUM(F22:F28) -> 0
A29: 四 | B29: 油漆及牆面工程/環保水泥漆/虹牌
A30: 1 | B30: 3樓女廁暗架平頂天花批土刷漆 | C30: 1 | D30: 式
A31: =A30+1 -> 2 | B31: 3樓男廁暗架平頂天花批土刷漆 | C31: 1 | D31: 式
A32: =A31+1 -> 3 | B32: 3樓梯廳/走道暗架平頂天花批土刷漆 | C32: 1 | D32: 式
F33: 小計: | G33: =SUM(F29:F33) -> 0
A34: 五 | B34: 燈具工程
A35: 1 | B35: 3樓廁所LED投射嵌燈 | C35: 15 | D35: 盞 | F35: =SUM(C35*E35) -> 0
A36: =A35+1 -> 2 | B36: 3樓梯廳LED大嵌燈 | C36: 12 | D36: 盞 | F36: =SUM(C36*E36) -> 0
F37: 小計: | G37: =SUM(F34:F37) -> 0
A38: 六 | B38: 其他工程
A40: =A39+1 -> 1 | B40: 3樓梯廳/男女廁所/走道/無障礙廁所完工基本清潔 | C40: 1 | D40: 式
F42: 小計: | G42: =SUM(F38:F42) -> 0
F44: 合計: | G44: =SUM(F7:F44) -> 0
F46: 總計: | G46: =SUM(F7:F45) -> 0
B49: 以上報價不含:(1) 5%營業稅

Sheet 室內裝修及消防竣工
E1: 主辦單位:
E2: 工程名稱:
E3: 工程地點:
E4: 日期:
B5: 辦公室室內裝修竣工申請
A6: 項次 | B6: 項目說明 | C6: 數量 | D6: 單位 | E6: 單價 | F6: 金額 | G6: 備註
A7: 一 | B7: 室內裝修審查費用(建築師費用)
A8: 1 | B8: 室內裝修合格證明申請作業 | C8: 1 | D8: 式
F9: 小計： | G9: =SUM(F7:F9) -> 0
A10: 二 | B10: 消防審查費用(消防技師費用)
A11: 1 | B11: 消防設備監造及測試報告及簽證 | C11: 1 | D11: 式
A12: =A11+1 -> 2 | B12: 消防竣工圖說、竣工照片副本製作 | C12: 1 | D12: 式
A13: =A12+1 -> 3 | B13: 監造計劃執行各階段作業報表製作、現場查驗 | C13: 1 | D13: 式
F14: 小計： | G14: =SUM(F10:F14) -> 0
F19: 合計: | G19: =SUM(F7:F19) -> 0
F23: 總計: | G23: =SUM(F7:F22) -> 0
B27: 以上報價不含:(1) 5%營業稅
